FILENAME: O4610735.NES.1008974.tif
QUADRANGLE_NAME: WEED CREEK EAST
QUADRANT: NE
WEST_LONGITUDE: -107 41 15.00000
EAST_LONGITUDE: -107 37 30.00000
NORTH_LATITUDE: 46 30 0.00000
SOUTH_LATITUDE: 46 26 15.00000
PRODUCTION_DATE: 1999 5 4
RASTER_ORDER: LEFT_RIGHT/TOP_BOTTOM
BAND_ORGANIZATION: SINGLE FILE
BAND_CONTENT: BLACK&WHITE
BAND_CONTENT: UNDEFINED
BAND_CONTENT: UNDEFINED
BITS_PER_PIXEL: 8
SAMPLES_AND_LINES: 5685 7709
HORIZONTAL_DATUM: NAD83
HORIZONTAL_COORDINATE_SYSTEM: UTM
COORDINATE_ZONE: 13
HORIZONTAL_UNITS: METERS
HORIZONTAL_RESOLUTION: 1.00000
SECONDARY_HORIZONTAL_DATUM: NAD27
XY_ORIGIN: 293199.00000 5153413.00000
SECONDARY_XY_ORIGIN: 293242.60300 5153195.05100
NATION: US
NATION: "SCIENCE
STATE: MT
NW_QUAD_CORNER_XY: 293786.92000 5153112.74000
NE_QUAD_CORNER_XY: 298582.39800 5152951.35900
SE_QUAD_CORNERY_XY: 298351.57300 5146006.97400
SW_QUAD_CORNER_XY: 293550.59100 5146168.37400
SECONDARY_NW_QUAD_XY: 293780.63100 5152894.56700
SECONDARY_NE_QUAD_XY: 298576.25500 5152733.18100
SECONDARY_SE_QUAD_XY: 298345.43100 5145788.83200
SECONDARY_SW_QUAD_XY: 293544.30300 5145950.23600
RMSE_XY: 2.00000
IMAGE_SOURCE: BLACK AND WHITE FILM
SOURCE_IMAGE_ID: NAPP 9131 144
SOURCE_IMAGE_DATE: 1996 07 29
SOURCE_IMAGE_ID: NAPP 9135 139
SOURCE_IMAGE_DATE: 1996 08 19
SOURCE_DEM_DATE: 1973 00 00
AGENCY: WESTERN MAPPING CENTER (WMC)
PRODUCER: UNDEFINED
PRODUCTION_SYSTEM: GIS/MAGIC
COMPRESSION: UNDEFINED
STANDARD_VERSION: 1996 12
METADATA_DATE: 1999 05 24
DATA_FILE_SIZE: 43831350
BYTE_COUNT: 5685
