FILENAME: O4610735.SES.1008976.tif
QUADRANGLE_NAME: WEED CREEK EAST
QUADRANT: SE
WEST_LONGITUDE: -107 41 15.00000
EAST_LONGITUDE: -107 37 30.00000
NORTH_LATITUDE: 46 26 15.00000
SOUTH_LATITUDE: 46 22 30.00000
PRODUCTION_DATE: 1999 5 4
RASTER_ORDER: LEFT_RIGHT/TOP_BOTTOM
BAND_ORGANIZATION: SINGLE FILE
BAND_CONTENT: BLACK&WHITE
BAND_CONTENT: UNDEFINED
BAND_CONTENT: UNDEFINED
BITS_PER_PIXEL: 8
SAMPLES_AND_LINES: 5690 7709
HORIZONTAL_DATUM: NAD83
HORIZONTAL_COORDINATE_SYSTEM: UTM
COORDINATE_ZONE: 13
HORIZONTAL_UNITS: METERS
HORIZONTAL_RESOLUTION: 1.00000
SECONDARY_HORIZONTAL_DATUM: NAD27
XY_ORIGIN: 292963.00000 5146469.00000
SECONDARY_XY_ORIGIN: 293006.50900 5146251.05400
NATION: US
NATION: "SCIENCE
STATE: MT
NW_QUAD_CORNER_XY: 293550.59100 5146168.37400
NE_QUAD_CORNER_XY: 298351.57300 5146006.97400
SE_QUAD_CORNERY_XY: 298120.98900 5139062.65100
SW_QUAD_CORNER_XY: 293314.51000 5139224.06700
SECONDARY_NW_QUAD_XY: 293544.30300 5145950.23600
SECONDARY_NE_QUAD_XY: 298345.43100 5145788.83200
SECONDARY_SE_QUAD_XY: 298114.84900 5138844.54400
SECONDARY_SW_QUAD_XY: 293308.22300 5139005.96600
RMSE_XY: 1.00000
IMAGE_SOURCE: BLACK AND WHITE FILM
SOURCE_IMAGE_ID: NAPP 9131 146
SOURCE_IMAGE_DATE: 1996 07 29
SOURCE_IMAGE_ID: NAPP 9131 149
SOURCE_IMAGE_DATE: 1996 07 29
SOURCE_IMAGE_ID: NAPP 9131 145
SOURCE_IMAGE_DATE: 1996 07 29
SOURCE_DEM_DATE: 1973 00 00
AGENCY: WESTERN MAPPING CENTER (WMC)
PRODUCER: UNDEFINED
PRODUCTION_SYSTEM: GIS/MAGIC
COMPRESSION: UNDEFINED
STANDARD_VERSION: 1996 12
METADATA_DATE: 1999 05 24
DATA_FILE_SIZE: 43869900
BYTE_COUNT: 5690
