FILENAME: O4610734.SWS.1008877.tif
QUADRANGLE_NAME: WEED CREEK WEST
QUADRANT: SW
WEST_LONGITUDE: -107 52 30.00000
EAST_LONGITUDE: -107 48 45.00000
NORTH_LATITUDE: 46 26 15.00000
SOUTH_LATITUDE: 46 22 30.00000
PRODUCTION_DATE: 1999 5 3
RASTER_ORDER: LEFT_RIGHT/TOP_BOTTOM
BAND_ORGANIZATION: SINGLE FILE
BAND_CONTENT: BLACK&WHITE
BAND_CONTENT: UNDEFINED
BAND_CONTENT: UNDEFINED
BITS_PER_PIXEL: 8
SAMPLES_AND_LINES: 5707 7720
HORIZONTAL_DATUM: NAD83
HORIZONTAL_COORDINATE_SYSTEM: UTM
COORDINATE_ZONE: 13
HORIZONTAL_UNITS: METERS
HORIZONTAL_RESOLUTION: 1.00000
SECONDARY_HORIZONTAL_DATUM: NAD27
XY_ORIGIN: 278543.00000 5146976.00000
SECONDARY_XY_ORIGIN: 278586.88400 5146758.32300
NATION: US
NATION: "SCIENCE
STATE: MT
NW_QUAD_CORNER_XY: 279147.72200 5146675.39000
NE_QUAD_CORNER_XY: 283948.66500 5146502.58100
SE_QUAD_CORNERY_XY: 283701.58800 5139558.31000
SW_QUAD_CORNER_XY: 278895.14500 5139731.13700
SECONDARY_NW_QUAD_XY: 279140.99500 5146457.26800
SECONDARY_NE_QUAD_XY: 283942.08500 5146284.45400
SECONDARY_SE_QUAD_XY: 283695.00800 5139340.21900
SECONDARY_SW_QUAD_XY: 278888.41900 5139513.05100
RMSE_XY: 2.00000
IMAGE_SOURCE: BLACK AND WHITE FILM
SOURCE_IMAGE_ID: NAPP 9132 036
SOURCE_IMAGE_DATE: 1996 07 29
SOURCE_IMAGE_ID: NAPP 9132 034
SOURCE_IMAGE_DATE: 1996 07 29
SOURCE_IMAGE_ID: NAPP 9132 037
SOURCE_IMAGE_DATE: 1996 07 29
SOURCE_DEM_DATE: 1990 00 00
AGENCY: WESTERN MAPPING CENTER (WMC)
PRODUCER: UNDEFINED
PRODUCTION_SYSTEM: GIS/MAGIC
COMPRESSION: UNDEFINED
STANDARD_VERSION: 1996 12
METADATA_DATE: 1999 05 24
DATA_FILE_SIZE: 44063747
BYTE_COUNT: 5707
