FILENAME: O4610733.SES.1008812.tif
QUADRANGLE_NAME: CHANDLER SPRING
QUADRANT: SE
WEST_LONGITUDE: -107 56 15.00000
EAST_LONGITUDE: -107 52 30.00000
NORTH_LATITUDE: 46 26 15.00000
SOUTH_LATITUDE: 46 22 30.00000
PRODUCTION_DATE: 1999 5 3
RASTER_ORDER: LEFT_RIGHT/TOP_BOTTOM
BAND_ORGANIZATION: SINGLE FILE
BAND_CONTENT: BLACK&WHITE
BAND_CONTENT: UNDEFINED
BAND_CONTENT: UNDEFINED
BITS_PER_PIXEL: 8
SAMPLES_AND_LINES: 5713 7725
HORIZONTAL_DATUM: NAD83
HORIZONTAL_COORDINATE_SYSTEM: UTM
COORDINATE_ZONE: 13
HORIZONTAL_UNITS: METERS
HORIZONTAL_RESOLUTION: 1.00000
SECONDARY_HORIZONTAL_DATUM: NAD27
XY_ORIGIN: 273736.00000 5147153.00000
SECONDARY_XY_ORIGIN: 273779.99500 5146935.44500
NATION: US
NATION: "SCIENCE
STATE: MT
NW_QUAD_CORNER_XY: 274346.79100 5146852.00300
NE_QUAD_CORNER_XY: 279147.72200 5146675.39000
SE_QUAD_CORNERY_XY: 278895.14500 5139731.13700
SW_QUAD_CORNER_XY: 274088.71400 5139907.76800
SECONDARY_NW_QUAD_XY: 274339.91800 5146633.88600
SECONDARY_NE_QUAD_XY: 279140.99500 5146457.26800
SECONDARY_SE_QUAD_XY: 278888.41900 5139513.05100
SECONDARY_SW_QUAD_XY: 274081.84200 5139689.68800
RMSE_XY: 2.00000
IMAGE_SOURCE: BLACK AND WHITE FILM
SOURCE_IMAGE_ID: NAPP 9132 147
SOURCE_IMAGE_DATE: 1996 07 29
SOURCE_IMAGE_ID: NAPP 9151 067
SOURCE_IMAGE_DATE: 1996 09 11
SOURCE_IMAGE_ID: NAPP 9132 146
SOURCE_IMAGE_DATE: 1996 07 29
SOURCE_IMAGE_ID: NAPP 9132 036
SOURCE_IMAGE_DATE: 1996 07 29
SOURCE_DEM_DATE: 1990 00 00
AGENCY: WESTERN MAPPING CENTER (WMC)
PRODUCER: UNDEFINED
PRODUCTION_SYSTEM: GIS/MAGIC
COMPRESSION: UNDEFINED
STANDARD_VERSION: 1996 12
METADATA_DATE: 1999 05 24
DATA_FILE_SIZE: 44138638
BYTE_COUNT: 5713
