FILENAME: O4610732.NES.1008246.tif
QUADRANGLE_NAME: ZEMPEL LAKE
QUADRANT: NE
WEST_LONGITUDE: -107 3 45.00000
EAST_LONGITUDE: -107 0 0.00000
NORTH_LATITUDE: 46 37 30.00000
SOUTH_LATITUDE: 46 33 45.00000
PRODUCTION_DATE: 1999 5 20
RASTER_ORDER: LEFT_RIGHT/TOP_BOTTOM
BAND_ORGANIZATION: SINGLE FILE
BAND_CONTENT: BLACK&WHITE
BAND_CONTENT: UNDEFINED
BAND_CONTENT: UNDEFINED
BITS_PER_PIXEL: 8
SAMPLES_AND_LINES: 5617 7671
HORIZONTAL_DATUM: NAD83
HORIZONTAL_COORDINATE_SYSTEM: UTM
COORDINATE_ZONE: 13
HORIZONTAL_UNITS: METERS
HORIZONTAL_RESOLUTION: 1.00000
SECONDARY_HORIZONTAL_DATUM: NAD27
XY_ORIGIN: 341575.00000 5165860.00000
SECONDARY_XY_ORIGIN: 341617.55300 5165641.42400
NATION: US
NATION: "SCIENCE
STATE: MT
NW_QUAD_CORNER_XY: 342105.42800 5165559.23000
NE_QUAD_CORNER_XY: 346890.00200 5165435.88400
SE_QUAD_CORNERY_XY: 346713.81600 5158491.21100
SW_QUAD_CORNER_XY: 341923.73200 5158614.57200
SECONDARY_NW_QUAD_XY: 342100.60000 5165340.94500
SECONDARY_NE_QUAD_XY: 346885.32100 5165217.59400
SECONDARY_SE_QUAD_XY: 346709.13500 5158272.95600
SECONDARY_SW_QUAD_XY: 341918.90500 5158396.32000
RMSE_XY: 1.50000
IMAGE_SOURCE: BLACK AND WHITE FILM
SOURCE_IMAGE_ID: NAPP 9099 113
SOURCE_IMAGE_DATE: 1996 07 14
SOURCE_DEM_DATE: 1956 00 00
AGENCY: WESTERN MAPPING CENTER (WMC)
PRODUCER: UNDEFINED
PRODUCTION_SYSTEM: GIS/MAGIC
COMPRESSION: UNDEFINED
STANDARD_VERSION: 1996 12
METADATA_DATE: 1999 06 02
DATA_FILE_SIZE: 43093624
BYTE_COUNT: 5617
