FILENAME: O4610732.NWS.1008247.tif
QUADRANGLE_NAME: ZEMPEL LAKE
QUADRANT: NW
WEST_LONGITUDE: -107 7 30.00000
EAST_LONGITUDE: -107 3 45.00000
NORTH_LATITUDE: 46 37 30.00000
SOUTH_LATITUDE: 46 33 45.00000
PRODUCTION_DATE: 1999 5 20
RASTER_ORDER: LEFT_RIGHT/TOP_BOTTOM
BAND_ORGANIZATION: SINGLE FILE
BAND_CONTENT: BLACK&WHITE
BAND_CONTENT: UNDEFINED
BAND_CONTENT: UNDEFINED
BITS_PER_PIXEL: 8
SAMPLES_AND_LINES: 5622 7675
HORIZONTAL_DATUM: NAD83
HORIZONTAL_COORDINATE_SYSTEM: UTM
COORDINATE_ZONE: 13
HORIZONTAL_UNITS: METERS
HORIZONTAL_RESOLUTION: 1.00000
SECONDARY_HORIZONTAL_DATUM: NAD27
XY_ORIGIN: 336785.00000 5165987.00000
SECONDARY_XY_ORIGIN: 336827.66900 5165768.45000
NATION: US
NATION: "SCIENCE
STATE: MT
NW_QUAD_CORNER_XY: 337320.86400 5165686.37500
NE_QUAD_CORNER_XY: 342105.42800 5165559.23000
SE_QUAD_CORNERY_XY: 341923.73200 5158614.57200
SW_QUAD_CORNER_XY: 337133.65700 5158741.73200
SECONDARY_NW_QUAD_XY: 337315.89000 5165468.09300
SECONDARY_NE_QUAD_XY: 342100.60000 5165340.94500
SECONDARY_SE_QUAD_XY: 341918.90500 5158396.32000
SECONDARY_SW_QUAD_XY: 337128.68400 5158523.48400
RMSE_XY: 0.50000
IMAGE_SOURCE: BLACK AND WHITE FILM
SOURCE_IMAGE_ID: NAPP 10764 065
SOURCE_IMAGE_DATE: 1997 09 20
SOURCE_DEM_DATE: 1956 00 00
AGENCY: WESTERN MAPPING CENTER (WMC)
PRODUCER: UNDEFINED
PRODUCTION_SYSTEM: GIS/MAGIC
COMPRESSION: UNDEFINED
STANDARD_VERSION: 1996 12
METADATA_DATE: 1999 06 02
DATA_FILE_SIZE: 43154472
BYTE_COUNT: 5622
