FILENAME: O4610732.SWS.1008249.tif
QUADRANGLE_NAME: ZEMPEL LAKE
QUADRANT: SW
WEST_LONGITUDE: -107 7 30.00000
EAST_LONGITUDE: -107 3 45.00000
NORTH_LATITUDE: 46 33 45.00000
SOUTH_LATITUDE: 46 30 0.00000
PRODUCTION_DATE: 1999 5 20
RASTER_ORDER: LEFT_RIGHT/TOP_BOTTOM
BAND_ORGANIZATION: SINGLE FILE
BAND_CONTENT: BLACK&WHITE
BAND_CONTENT: UNDEFINED
BAND_CONTENT: UNDEFINED
BITS_PER_PIXEL: 8
SAMPLES_AND_LINES: 5627 7675
HORIZONTAL_DATUM: NAD83
HORIZONTAL_COORDINATE_SYSTEM: UTM
COORDINATE_ZONE: 13
HORIZONTAL_UNITS: METERS
HORIZONTAL_RESOLUTION: 1.00000
SECONDARY_HORIZONTAL_DATUM: NAD27
XY_ORIGIN: 336598.00000 5159042.00000
SECONDARY_XY_ORIGIN: 336640.63300 5158823.60700
NATION: US
NATION: "SCIENCE
STATE: MT
NW_QUAD_CORNER_XY: 337133.65700 5158741.73200
NE_QUAD_CORNER_XY: 341923.73200 5158614.57200
SE_QUAD_CORNERY_XY: 341742.22500 5151669.98000
SW_QUAD_CORNER_XY: 336946.64600 5151797.15500
SECONDARY_NW_QUAD_XY: 337128.68400 5158523.48400
SECONDARY_NE_QUAD_XY: 341918.90500 5158396.32000
SECONDARY_SE_QUAD_XY: 341737.39900 5151451.76300
SECONDARY_SW_QUAD_XY: 336941.67300 5151578.94200
RMSE_XY: 1.40000
IMAGE_SOURCE: BLACK AND WHITE FILM
SOURCE_IMAGE_ID: NAPP 10764 063
SOURCE_IMAGE_DATE: 1997 09 20
SOURCE_IMAGE_ID: NAPP 10764 065
SOURCE_IMAGE_DATE: 1997 09 20
SOURCE_IMAGE_ID: NAPP 9099 115
SOURCE_IMAGE_DATE: 1996 07 14
SOURCE_DEM_DATE: 1956 00 00
AGENCY: WESTERN MAPPING CENTER (WMC)
PRODUCER: UNDEFINED
PRODUCTION_SYSTEM: GIS/MAGIC
COMPRESSION: UNDEFINED
STANDARD_VERSION: 1996 12
METADATA_DATE: 1999 06 02
DATA_FILE_SIZE: 43192852
BYTE_COUNT: 5627
