FILENAME: O4610730.SES.1009083.tif
QUADRANGLE_NAME: INGOMAR EAST
QUADRANT: SE
WEST_LONGITUDE: -107 18 45.00000
EAST_LONGITUDE: -107 15 0.00000
NORTH_LATITUDE: 46 33 45.00000
SOUTH_LATITUDE: 46 30 0.00000
PRODUCTION_DATE: 1999 5 17
RASTER_ORDER: LEFT_RIGHT/TOP_BOTTOM
BAND_ORGANIZATION: SINGLE FILE
BAND_CONTENT: BLACK&WHITE
BAND_CONTENT: UNDEFINED
BAND_CONTENT: UNDEFINED
BITS_PER_PIXEL: 8
SAMPLES_AND_LINES: 5645 7687
HORIZONTAL_DATUM: NAD83
HORIZONTAL_COORDINATE_SYSTEM: UTM
COORDINATE_ZONE: 13
HORIZONTAL_UNITS: METERS
HORIZONTAL_RESOLUTION: 1.00000
SECONDARY_HORIZONTAL_DATUM: NAD27
XY_ORIGIN: 322210.00000 5159447.00000
SECONDARY_XY_ORIGIN: 322252.96300 5159228.71600
NATION: US
NATION: "SCIENCE
STATE: MT
NW_QUAD_CORNER_XY: 322763.49800 5159146.00700
NE_QUAD_CORNER_XY: 327553.54000 5159007.44900
SE_QUAD_CORNERY_XY: 327355.51800 5152062.90300
SW_QUAD_CORNER_XY: 322559.96900 5152201.47600
SECONDARY_NW_QUAD_XY: 322758.08600 5158927.77200
SECONDARY_NE_QUAD_XY: 327548.27400 5158789.20900
SECONDARY_SE_QUAD_XY: 327350.25300 5151844.69700
SECONDARY_SW_QUAD_XY: 322554.55800 5151983.27600
RMSE_XY: 1.10000
IMAGE_SOURCE: BLACK AND WHITE FILM
SOURCE_IMAGE_ID: NAPP 9126 020
SOURCE_IMAGE_DATE: 1996 07 14
SOURCE_IMAGE_ID: NAPP 9126 021
SOURCE_IMAGE_DATE: 1996 07 14
SOURCE_DEM_DATE: 1956 00 00
AGENCY: WESTERN MAPPING CENTER (WMC)
PRODUCER: UNDEFINED
PRODUCTION_SYSTEM: GIS/MAGIC
COMPRESSION: UNDEFINED
STANDARD_VERSION: 1996 12
METADATA_DATE: 1999 05 24
DATA_FILE_SIZE: 43398760
BYTE_COUNT: 5645
