FILENAME: O4610727.SES.1008972.tif
QUADRANGLE_NAME: GUTHRIDGE RANCH
QUADRANT: SE
WEST_LONGITUDE: -107 41 15.00000
EAST_LONGITUDE: -107 37 30.00000
NORTH_LATITUDE: 46 33 45.00000
SOUTH_LATITUDE: 46 30 0.00000
PRODUCTION_DATE: 1999 5 17
RASTER_ORDER: LEFT_RIGHT/TOP_BOTTOM
BAND_ORGANIZATION: SINGLE FILE
BAND_CONTENT: BLACK&WHITE
BAND_CONTENT: UNDEFINED
BAND_CONTENT: UNDEFINED
BITS_PER_PIXEL: 8
SAMPLES_AND_LINES: 5679 7709
HORIZONTAL_DATUM: NAD83
HORIZONTAL_COORDINATE_SYSTEM: UTM
COORDINATE_ZONE: 13
HORIZONTAL_UNITS: METERS
HORIZONTAL_RESOLUTION: 1.00000
SECONDARY_HORIZONTAL_DATUM: NAD27
XY_ORIGIN: 293436.00000 5160358.00000
SECONDARY_XY_ORIGIN: 293479.66000 5160139.90100
NATION: US
NATION: "SCIENCE
STATE: MT
NW_QUAD_CORNER_XY: 294023.49500 5160057.16600
NE_QUAD_CORNER_XY: 298813.46400 5159895.80300
SE_QUAD_CORNERY_XY: 298582.39800 5152951.35900
SW_QUAD_CORNER_XY: 293786.92000 5153112.74000
SECONDARY_NW_QUAD_XY: 294017.20500 5159838.95800
SECONDARY_NE_QUAD_XY: 298807.32000 5159677.59000
SECONDARY_SE_QUAD_XY: 298576.25500 5152733.18100
SECONDARY_SW_QUAD_XY: 293780.63100 5152894.56700
RMSE_XY: 1.70000
IMAGE_SOURCE: BLACK AND WHITE FILM
SOURCE_IMAGE_ID: NAPP 9131 142
SOURCE_IMAGE_DATE: 1996 07 29
SOURCE_IMAGE_ID: NAPP 9131 014
SOURCE_IMAGE_DATE: 1996 07 29
SOURCE_DEM_DATE: 1961 00 00
AGENCY: WESTERN MAPPING CENTER (WMC)
PRODUCER: UNDEFINED
PRODUCTION_SYSTEM: GIS/MAGIC
COMPRESSION: UNDEFINED
STANDARD_VERSION: 1996 12
METADATA_DATE: 1999 05 24
DATA_FILE_SIZE: 43785090
BYTE_COUNT: 5679
