FILENAME: O4610726.NES.1008913.tif
QUADRANGLE_NAME: MELSTONE
QUADRANT: NE
WEST_LONGITUDE: -107 48 45.00000
EAST_LONGITUDE: -107 45 0.00000
NORTH_LATITUDE: 46 37 30.00000
SOUTH_LATITUDE: 46 33 45.00000
PRODUCTION_DATE: 1999 5 5
RASTER_ORDER: LEFT_RIGHT/TOP_BOTTOM
BAND_ORGANIZATION: SINGLE FILE
BAND_CONTENT: BLACK&WHITE
BAND_CONTENT: UNDEFINED
BAND_CONTENT: UNDEFINED
BITS_PER_PIXEL: 8
SAMPLES_AND_LINES: 5685 7716
HORIZONTAL_DATUM: NAD83
HORIZONTAL_COORDINATE_SYSTEM: UTM
COORDINATE_ZONE: 13
HORIZONTAL_UNITS: METERS
HORIZONTAL_RESOLUTION: 1.00000
SECONDARY_HORIZONTAL_DATUM: NAD27
XY_ORIGIN: 284092.00000 5167636.00000
SECONDARY_XY_ORIGIN: 284135.91100 5167417.90300
NATION: US
NATION: "SCIENCE
STATE: MT
NW_QUAD_CORNER_XY: 284691.44900 5167335.74200
NE_QUAD_CORNER_XY: 289475.87600 5167166.79600
SE_QUAD_CORNERY_XY: 289233.53900 5160222.33000
SW_QUAD_CORNER_XY: 284443.59700 5160391.29700
SECONDARY_NW_QUAD_XY: 284684.86500 5167117.51100
SECONDARY_NE_QUAD_XY: 289469.43800 5166948.55900
SECONDARY_SE_QUAD_XY: 289227.10200 5160004.12800
SECONDARY_SW_QUAD_XY: 284437.01400 5160173.10000
RMSE_XY: 2.70000
IMAGE_SOURCE: BLACK AND WHITE FILM
SOURCE_IMAGE_ID: NAPP 9131 266
SOURCE_IMAGE_DATE: 1996 07 29
SOURCE_IMAGE_ID: NAPP 9132 042
SOURCE_IMAGE_DATE: 1996 07 29
SOURCE_IMAGE_ID: NAPP 9132 043
SOURCE_IMAGE_DATE: 1996 07 29
SOURCE_IMAGE_ID: NAPP 9131 265
SOURCE_IMAGE_DATE: 1996 07 29
SOURCE_DEM_DATE: 1988 00 00
AGENCY: WESTERN MAPPING CENTER (WMC)
PRODUCER: UNDEFINED
PRODUCTION_SYSTEM: GIS/MAGIC
COMPRESSION: UNDEFINED
STANDARD_VERSION: 1996 12
METADATA_DATE: 1999 05 24
DATA_FILE_SIZE: 43871145
BYTE_COUNT: 5685
