FILENAME: O4610725.SWS.1008809.tif
QUADRANGLE_NAME: QUEENS POINT
QUADRANT: SW
WEST_LONGITUDE: -108 0 0.00000
EAST_LONGITUDE: -107 56 15.00000
NORTH_LATITUDE: 46 33 45.00000
SOUTH_LATITUDE: 46 30 0.00000
PRODUCTION_DATE: 1999 5 5
RASTER_ORDER: LEFT_RIGHT/TOP_BOTTOM
BAND_ORGANIZATION: SINGLE FILE
BAND_CONTENT: BLACK&WHITE
BAND_CONTENT: UNDEFINED
BAND_CONTENT: UNDEFINED
BITS_PER_PIXEL: 8
SAMPLES_AND_LINES: 5708 7729
HORIZONTAL_DATUM: NAD83
HORIZONTAL_COORDINATE_SYSTEM: UTM
COORDINATE_ZONE: 13
HORIZONTAL_UNITS: METERS
HORIZONTAL_RESOLUTION: 1.00000
SECONDARY_HORIZONTAL_DATUM: NAD27
XY_ORIGIN: 269457.00000 5161222.00000
SECONDARY_XY_ORIGIN: 269501.10000 5161004.32300
NATION: US
NATION: "SCIENCE
STATE: MT
NW_QUAD_CORNER_XY: 270073.85400 5160921.01600
NE_QUAD_CORNER_XY: 274863.75400 5160740.64000
SE_QUAD_CORNERY_XY: 274605.13800 5153796.29300
SW_QUAD_CORNER_XY: 269809.72600 5153976.69000
SECONDARY_NW_QUAD_XY: 270066.83200 5160702.83500
SECONDARY_NE_QUAD_XY: 274856.87800 5160522.45300
SECONDARY_SE_QUAD_XY: 274598.26300 5153578.14100
SECONDARY_SW_QUAD_XY: 269802.70600 5153758.54400
RMSE_XY: 2.50000
IMAGE_SOURCE: BLACK AND WHITE FILM
SOURCE_IMAGE_ID: NAPP 9132 154
SOURCE_IMAGE_DATE: 1996 07 29
SOURCE_IMAGE_ID: NAPP 9132 153
SOURCE_IMAGE_DATE: 1996 07 29
SOURCE_DEM_DATE: 1997 01 01
AGENCY: WESTERN MAPPING CENTER (WMC)
PRODUCER: UNDEFINED
PRODUCTION_SYSTEM: GIS/MAGIC
COMPRESSION: UNDEFINED
STANDARD_VERSION: 1996 12
METADATA_DATE: 1999 05 24
DATA_FILE_SIZE: 44122840
BYTE_COUNT: 5708
