FILENAME: O4610724.NES.1008600.tif
QUADRANGLE_NAME: BROWN COULEE
QUADRANT: NE
WEST_LONGITUDE: -107 3 45.00000
EAST_LONGITUDE: -107 0 0.00000
NORTH_LATITUDE: 46 45 0.00000
SOUTH_LATITUDE: 46 41 15.00000
PRODUCTION_DATE: 1999 5 19
RASTER_ORDER: LEFT_RIGHT/TOP_BOTTOM
BAND_ORGANIZATION: SINGLE FILE
BAND_CONTENT: BLACK&WHITE
BAND_CONTENT: UNDEFINED
BAND_CONTENT: UNDEFINED
BITS_PER_PIXEL: 8
SAMPLES_AND_LINES: 5606 7672
HORIZONTAL_DATUM: NAD83
HORIZONTAL_COORDINATE_SYSTEM: UTM
COORDINATE_ZONE: 13
HORIZONTAL_UNITS: METERS
HORIZONTAL_RESOLUTION: 1.00000
SECONDARY_HORIZONTAL_DATUM: NAD27
XY_ORIGIN: 341938.00000 5179750.00000
SECONDARY_XY_ORIGIN: 341980.64300 5179531.11200
NATION: US
NATION: "SCIENCE
STATE: MT
NW_QUAD_CORNER_XY: 342469.38800 5179448.74600
NE_QUAD_CORNER_XY: 347242.92500 5179325.43000
SE_QUAD_CORNERY_XY: 347066.37200 5172380.62400
SW_QUAD_CORNER_XY: 342287.31300 5172503.95500
SECONDARY_NW_QUAD_XY: 342464.55800 5179230.39500
SECONDARY_NE_QUAD_XY: 347238.24100 5179107.07600
SECONDARY_SE_QUAD_XY: 347061.68900 5172162.30100
SECONDARY_SW_QUAD_XY: 342282.48500 5172285.63600
RMSE_XY: 1.00000
IMAGE_SOURCE: BLACK AND WHITE FILM
SOURCE_IMAGE_ID: NAPP 9099 109
SOURCE_IMAGE_DATE: 1996 07 14
SOURCE_DEM_DATE: 1956 00 00
AGENCY: WESTERN MAPPING CENTER (WMC)
PRODUCER: UNDEFINED
PRODUCTION_SYSTEM: GIS/MAGIC
COMPRESSION: UNDEFINED
STANDARD_VERSION: 1996 12
METADATA_DATE: 1999 05 24
DATA_FILE_SIZE: 43014838
BYTE_COUNT: 5606
