FILENAME: O4610723.NWS.1008593.tif
QUADRANGLE_NAME: HAGEN RANCH
QUADRANT: NW
WEST_LONGITUDE: -107 15 0.00000
EAST_LONGITUDE: -107 11 15.00000
NORTH_LATITUDE: 46 45 0.00000
SOUTH_LATITUDE: 46 41 15.00000
PRODUCTION_DATE: 1999 5 19
RASTER_ORDER: LEFT_RIGHT/TOP_BOTTOM
BAND_ORGANIZATION: SINGLE FILE
BAND_CONTENT: BLACK&WHITE
BAND_CONTENT: UNDEFINED
BAND_CONTENT: UNDEFINED
BITS_PER_PIXEL: 8
SAMPLES_AND_LINES: 5623 7682
HORIZONTAL_DATUM: NAD83
HORIZONTAL_COORDINATE_SYSTEM: UTM
COORDINATE_ZONE: 13
HORIZONTAL_UNITS: METERS
HORIZONTAL_RESOLUTION: 1.00000
SECONDARY_HORIZONTAL_DATUM: NAD27
XY_ORIGIN: 327601.00000 5180142.00000
SECONDARY_XY_ORIGIN: 327643.93700 5179923.19000
NATION: US
NATION: "SCIENCE
STATE: MT
NW_QUAD_CORNER_XY: 328148.84600 5179841.47600
NE_QUAD_CORNER_XY: 332922.34800 5179706.76800
SE_QUAD_CORNERY_XY: 332729.23000 5172762.01100
SW_QUAD_CORNER_XY: 327950.20500 5172896.73600
SECONDARY_NW_QUAD_XY: 328143.57700 5179623.13800
SECONDARY_NE_QUAD_XY: 332917.22600 5179488.42500
SECONDARY_SE_QUAD_XY: 332724.10800 5172543.70000
SECONDARY_SW_QUAD_XY: 327944.93700 5172678.43000
RMSE_XY: 1.10000
IMAGE_SOURCE: BLACK AND WHITE FILM
SOURCE_IMAGE_ID: NAPP 10765 020
SOURCE_IMAGE_DATE: 1997 09 23
SOURCE_DEM_DATE: 1956 00 00
AGENCY: WESTERN MAPPING CENTER (WMC)
PRODUCER: UNDEFINED
PRODUCTION_SYSTEM: GIS/MAGIC
COMPRESSION: UNDEFINED
STANDARD_VERSION: 1996 12
METADATA_DATE: 1999 05 24
DATA_FILE_SIZE: 43201509
BYTE_COUNT: 5623
