FILENAME: O4610723.SES.1008594.tif
QUADRANGLE_NAME: HAGEN RANCH
QUADRANT: SE
WEST_LONGITUDE: -107 11 15.00000
EAST_LONGITUDE: -107 7 30.00000
NORTH_LATITUDE: 46 41 15.00000
SOUTH_LATITUDE: 46 37 30.00000
PRODUCTION_DATE: 1999 5 19
RASTER_ORDER: LEFT_RIGHT/TOP_BOTTOM
BAND_ORGANIZATION: SINGLE FILE
BAND_CONTENT: BLACK&WHITE
BAND_CONTENT: UNDEFINED
BAND_CONTENT: UNDEFINED
BITS_PER_PIXEL: 8
SAMPLES_AND_LINES: 5623 7679
HORIZONTAL_DATUM: NAD83
HORIZONTAL_COORDINATE_SYSTEM: UTM
COORDINATE_ZONE: 13
HORIZONTAL_UNITS: METERS
HORIZONTAL_RESOLUTION: 1.00000
SECONDARY_HORIZONTAL_DATUM: NAD27
XY_ORIGIN: 332187.00000 5173063.00000
SECONDARY_XY_ORIGIN: 332229.81200 5172844.32000
NATION: US
NATION: "SCIENCE
STATE: MT
NW_QUAD_CORNER_XY: 332729.23000 5172762.01100
NE_QUAD_CORNER_XY: 337508.26600 5172631.08400
SE_QUAD_CORNERY_XY: 337320.86400 5165686.37500
SW_QUAD_CORNER_XY: 332536.31100 5165817.31800
SECONDARY_NW_QUAD_XY: 332724.10800 5172543.70000
SECONDARY_NE_QUAD_XY: 337503.29100 5172412.76900
SECONDARY_SE_QUAD_XY: 337315.89000 5165468.09300
SECONDARY_SW_QUAD_XY: 332531.19100 5165599.04000
RMSE_XY: 1.00000
IMAGE_SOURCE: BLACK AND WHITE FILM
SOURCE_IMAGE_ID: NAPP 9100 024
SOURCE_IMAGE_DATE: 1996 07 14
SOURCE_DEM_DATE: 1956 00 00
AGENCY: WESTERN MAPPING CENTER (WMC)
PRODUCER: UNDEFINED
PRODUCTION_SYSTEM: GIS/MAGIC
COMPRESSION: UNDEFINED
STANDARD_VERSION: 1996 12
METADATA_DATE: 1999 05 24
DATA_FILE_SIZE: 43184640
BYTE_COUNT: 5623
