FILENAME: O4610723.SWS.1008595.tif
QUADRANGLE_NAME: HAGEN RANCH
QUADRANT: SW
WEST_LONGITUDE: -107 15 0.00000
EAST_LONGITUDE: -107 11 15.00000
NORTH_LATITUDE: 46 41 15.00000
SOUTH_LATITUDE: 46 37 30.00000
PRODUCTION_DATE: 1999 5 19
RASTER_ORDER: LEFT_RIGHT/TOP_BOTTOM
BAND_ORGANIZATION: SINGLE FILE
BAND_CONTENT: BLACK&WHITE
BAND_CONTENT: UNDEFINED
BAND_CONTENT: UNDEFINED
BITS_PER_PIXEL: 8
SAMPLES_AND_LINES: 5629 7683
HORIZONTAL_DATUM: NAD83
HORIZONTAL_COORDINATE_SYSTEM: UTM
COORDINATE_ZONE: 13
HORIZONTAL_UNITS: METERS
HORIZONTAL_RESOLUTION: 1.00000
SECONDARY_HORIZONTAL_DATUM: NAD27
XY_ORIGIN: 327402.00000 5173198.00000
SECONDARY_XY_ORIGIN: 327444.91900 5172979.34600
NATION: US
NATION: "SCIENCE
STATE: MT
NW_QUAD_CORNER_XY: 327950.20500 5172896.73600
NE_QUAD_CORNER_XY: 332729.23000 5172762.01100
SE_QUAD_CORNERY_XY: 332536.31100 5165817.31800
SW_QUAD_CORNER_XY: 327751.76900 5165952.06000
SECONDARY_NW_QUAD_XY: 327944.93700 5172678.43000
SECONDARY_NE_QUAD_XY: 332724.10800 5172543.70000
SECONDARY_SE_QUAD_XY: 332531.19100 5165599.04000
SECONDARY_SW_QUAD_XY: 327746.50200 5165733.78700
RMSE_XY: 0.90000
IMAGE_SOURCE: BLACK AND WHITE FILM
SOURCE_IMAGE_ID: NAPP 10765 018
SOURCE_IMAGE_DATE: 1997 09 23
SOURCE_DEM_DATE: 1956 00 00
AGENCY: WESTERN MAPPING CENTER (WMC)
PRODUCER: UNDEFINED
PRODUCTION_SYSTEM: GIS/MAGIC
COMPRESSION: UNDEFINED
STANDARD_VERSION: 1996 12
METADATA_DATE: 1999 05 24
DATA_FILE_SIZE: 43253236
BYTE_COUNT: 5629
