FILENAME: O4610722.NES.1008568.tif
QUADRANGLE_NAME: BLACK SEA RESERVOIR
QUADRANT: NE
WEST_LONGITUDE: -107 18 45.00000
EAST_LONGITUDE: -107 15 0.00000
NORTH_LATITUDE: 46 45 0.00000
SOUTH_LATITUDE: 46 41 15.00000
PRODUCTION_DATE: 1999 5 17
RASTER_ORDER: LEFT_RIGHT/TOP_BOTTOM
BAND_ORGANIZATION: SINGLE FILE
BAND_CONTENT: BLACK&WHITE
BAND_CONTENT: UNDEFINED
BAND_CONTENT: UNDEFINED
BITS_PER_PIXEL: 8
SAMPLES_AND_LINES: 5629 7687
HORIZONTAL_DATUM: NAD83
HORIZONTAL_COORDINATE_SYSTEM: UTM
COORDINATE_ZONE: 13
HORIZONTAL_UNITS: METERS
HORIZONTAL_RESOLUTION: 1.00000
SECONDARY_HORIZONTAL_DATUM: NAD27
XY_ORIGIN: 322821.00000 5180281.00000
SECONDARY_XY_ORIGIN: 322864.07200 5180062.23000
NATION: US
NATION: "SCIENCE
STATE: MT
NW_QUAD_CORNER_XY: 323375.35700 5179979.98300
NE_QUAD_CORNER_XY: 328148.84600 5179841.47600
SE_QUAD_CORNERY_XY: 327950.20500 5172896.73600
SW_QUAD_CORNER_XY: 323171.19200 5173035.26000
SECONDARY_NW_QUAD_XY: 323369.94200 5179761.64800
SECONDARY_NE_QUAD_XY: 328143.57700 5179623.13800
SECONDARY_SE_QUAD_XY: 327944.93700 5172678.43000
SECONDARY_SW_QUAD_XY: 323165.77800 5172816.95800
RMSE_XY: 2.50000
IMAGE_SOURCE: BLACK AND WHITE FILM
SOURCE_IMAGE_ID: NAPP 9126 014
SOURCE_IMAGE_DATE: 1996 07 14
SOURCE_IMAGE_ID: NAPP 9126 016
SOURCE_IMAGE_DATE: 1996 07 14
SOURCE_IMAGE_ID: NAPP 10765 020
SOURCE_IMAGE_DATE: 1997 09 23
SOURCE_DEM_DATE: 1956 00 00
AGENCY: WESTERN MAPPING CENTER (WMC)
PRODUCER: UNDEFINED
PRODUCTION_SYSTEM: GIS/MAGIC
COMPRESSION: UNDEFINED
STANDARD_VERSION: 1996 12
METADATA_DATE: 1999 05 24
DATA_FILE_SIZE: 43275752
BYTE_COUNT: 5629
