FILENAME: O4610720.SWS.1008997.tif
QUADRANGLE_NAME: HECKER RANCH
QUADRANT: SW
WEST_LONGITUDE: -107 37 30.00000
EAST_LONGITUDE: -107 33 45.00000
NORTH_LATITUDE: 46 41 15.00000
SOUTH_LATITUDE: 46 37 30.00000
PRODUCTION_DATE: 1999 5 17
RASTER_ORDER: LEFT_RIGHT/TOP_BOTTOM
BAND_ORGANIZATION: SINGLE FILE
BAND_CONTENT: BLACK&WHITE
BAND_CONTENT: UNDEFINED
BAND_CONTENT: UNDEFINED
BITS_PER_PIXEL: 8
SAMPLES_AND_LINES: 5663 7705
HORIZONTAL_DATUM: NAD83
HORIZONTAL_COORDINATE_SYSTEM: UTM
COORDINATE_ZONE: 13
HORIZONTAL_UNITS: METERS
HORIZONTAL_RESOLUTION: 1.00000
SECONDARY_HORIZONTAL_DATUM: NAD27
XY_ORIGIN: 298694.00000 5174085.00000
SECONDARY_XY_ORIGIN: 298737.65600 5173866.58800
NATION: US
NATION: "SCIENCE
STATE: MT
NW_QUAD_CORNER_XY: 299276.31900 5173784.87300
NE_QUAD_CORNER_XY: 304055.26700 5173627.35000
SE_QUAD_CORNERY_XY: 303829.23900 5166682.76600
SW_QUAD_CORNER_XY: 299044.77100 5166840.30800
SECONDARY_NW_QUAD_XY: 299270.17200 5173566.59300
SECONDARY_NE_QUAD_XY: 304049.26700 5173409.06600
SECONDARY_SE_QUAD_XY: 303823.24000 5166464.51400
SECONDARY_SW_QUAD_XY: 299038.62600 5166622.06100
RMSE_XY: 0.60000
IMAGE_SOURCE: BLACK AND WHITE FILM
SOURCE_IMAGE_ID: NAPP 9131 018
SOURCE_IMAGE_DATE: 1996 07 29
SOURCE_DEM_DATE: 1961 00 00
AGENCY: WESTERN MAPPING CENTER (WMC)
PRODUCER: UNDEFINED
PRODUCTION_SYSTEM: GIS/MAGIC
COMPRESSION: UNDEFINED
STANDARD_VERSION: 1996 12
METADATA_DATE: 1999 05 24
DATA_FILE_SIZE: 43639078
BYTE_COUNT: 5663
