FILENAME: O4610718.NWS.1008907.tif
QUADRANGLE_NAME: MELSTONE NE
QUADRANT: NW
WEST_LONGITUDE: -107 52 30.00000
EAST_LONGITUDE: -107 48 45.00000
NORTH_LATITUDE: 46 45 0.00000
SOUTH_LATITUDE: 46 41 15.00000
PRODUCTION_DATE: 1999 5 17
RASTER_ORDER: LEFT_RIGHT/TOP_BOTTOM
BAND_ORGANIZATION: SINGLE FILE
BAND_CONTENT: BLACK&WHITE
BAND_CONTENT: UNDEFINED
BAND_CONTENT: UNDEFINED
BITS_PER_PIXEL: 8
SAMPLES_AND_LINES: 5681 7720
HORIZONTAL_DATUM: NAD83
HORIZONTAL_COORDINATE_SYSTEM: UTM
COORDINATE_ZONE: 13
HORIZONTAL_UNITS: METERS
HORIZONTAL_RESOLUTION: 1.00000
SECONDARY_HORIZONTAL_DATUM: NAD27
XY_ORIGIN: 279808.00000 5181698.00000
SECONDARY_XY_ORIGIN: 279852.05900 5181479.76000
NATION: US
NATION: "SCIENCE
STATE: MT
NW_QUAD_CORNER_XY: 280414.56400 5181397.51100
NE_QUAD_CORNER_XY: 285187.92700 5181224.80600
SE_QUAD_CORNERY_XY: 284939.55900 5174280.24500
SW_QUAD_CORNER_XY: 280160.66900 5174452.97300
SECONDARY_NW_QUAD_XY: 280407.83200 5181179.22000
SECONDARY_NE_QUAD_XY: 285181.34100 5181006.51000
SECONDARY_SE_QUAD_XY: 284932.97400 5174061.98100
SECONDARY_SW_QUAD_XY: 280153.93700 5174234.71400
RMSE_XY: 2.10000
IMAGE_SOURCE: BLACK AND WHITE FILM
SOURCE_IMAGE_ID: NAPP 9132 046
SOURCE_IMAGE_DATE: 1996 07 29
SOURCE_IMAGE_ID: NAPP 9132 047
SOURCE_IMAGE_DATE: 1996 07 29
SOURCE_DEM_DATE: 1988 00 00
AGENCY: WESTERN MAPPING CENTER (WMC)
PRODUCER: UNDEFINED
PRODUCTION_SYSTEM: GIS/MAGIC
COMPRESSION: UNDEFINED
STANDARD_VERSION: 1996 12
METADATA_DATE: 1999 05 24
DATA_FILE_SIZE: 43863001
BYTE_COUNT: 5681
