FILENAME: O4610717.SES.1008872.tif
QUADRANGLE_NAME: MELSTONE NW
QUADRANT: SE
WEST_LONGITUDE: -107 56 15.00000
EAST_LONGITUDE: -107 52 30.00000
NORTH_LATITUDE: 46 41 15.00000
SOUTH_LATITUDE: 46 37 30.00000
PRODUCTION_DATE: 1999 5 17
RASTER_ORDER: LEFT_RIGHT/TOP_BOTTOM
BAND_ORGANIZATION: SINGLE FILE
BAND_CONTENT: BLACK&WHITE
BAND_CONTENT: UNDEFINED
BAND_CONTENT: UNDEFINED
BITS_PER_PIXEL: 8
SAMPLES_AND_LINES: 5692 7724
HORIZONTAL_DATUM: NAD83
HORIZONTAL_COORDINATE_SYSTEM: UTM
COORDINATE_ZONE: 13
HORIZONTAL_UNITS: METERS
HORIZONTAL_RESOLUTION: 1.00000
SECONDARY_HORIZONTAL_DATUM: NAD27
XY_ORIGIN: 274770.00000 5174930.00000
SECONDARY_XY_ORIGIN: 274814.08700 5174711.98300
NATION: US
NATION: "SCIENCE
STATE: MT
NW_QUAD_CORNER_XY: 275381.79400 5174629.50200
NE_QUAD_CORNER_XY: 280160.66900 5174452.97300
SE_QUAD_CORNERY_XY: 279907.03700 5167508.49100
SW_QUAD_CORNER_XY: 275122.64000 5167685.04300
SECONDARY_NW_QUAD_XY: 275374.91600 5174411.24900
SECONDARY_NE_QUAD_XY: 280153.93700 5174234.71400
SECONDARY_SE_QUAD_XY: 279900.30600 5167290.26500
SECONDARY_SW_QUAD_XY: 275115.76300 5167466.82200
RMSE_XY: 2.00000
IMAGE_SOURCE: BLACK AND WHITE FILM
SOURCE_IMAGE_ID: NAPP 9151 074
SOURCE_IMAGE_DATE: 1996 09 11
SOURCE_IMAGE_ID: NAPP 9132 159
SOURCE_IMAGE_DATE: 1996 07 29
SOURCE_IMAGE_ID: NAPP 9151 073
SOURCE_IMAGE_DATE: 1996 09 11
SOURCE_IMAGE_ID: NAPP 9151 076
SOURCE_IMAGE_DATE: 1996 09 11
SOURCE_IMAGE_ID: NAPP 9132 044
SOURCE_IMAGE_DATE: 1996 07 29
SOURCE_DEM_DATE: 1961 00 00
AGENCY: WESTERN MAPPING CENTER (WMC)
PRODUCER: UNDEFINED
PRODUCTION_SYSTEM: GIS/MAGIC
COMPRESSION: UNDEFINED
STANDARD_VERSION: 1996 12
METADATA_DATE: 1999 05 24
DATA_FILE_SIZE: 43970700
BYTE_COUNT: 5692
