FILENAME: O4610715.SWS.1008591.tif
QUADRANGLE_NAME: HOLE-IN-THE-ROCK
QUADRANT: SW
WEST_LONGITUDE: -107 15 0.00000
EAST_LONGITUDE: -107 11 15.00000
NORTH_LATITUDE: 46 48 45.00000
SOUTH_LATITUDE: 46 45 0.00000
PRODUCTION_DATE: 1999 5 10
RASTER_ORDER: LEFT_RIGHT/TOP_BOTTOM
BAND_ORGANIZATION: SINGLE FILE
BAND_CONTENT: BLACK&WHITE
BAND_CONTENT: UNDEFINED
BAND_CONTENT: UNDEFINED
BITS_PER_PIXEL: 8
SAMPLES_AND_LINES: 5618 7683
HORIZONTAL_DATUM: NAD83
HORIZONTAL_COORDINATE_SYSTEM: UTM
COORDINATE_ZONE: 13
HORIZONTAL_UNITS: METERS
HORIZONTAL_RESOLUTION: 1.00000
SECONDARY_HORIZONTAL_DATUM: NAD27
XY_ORIGIN: 327799.00000 5187087.00000
SECONDARY_XY_ORIGIN: 327841.98200 5186868.00800
NATION: US
NATION: "SCIENCE
STATE: MT
NW_QUAD_CORNER_XY: 328347.69400 5186786.28100
NE_QUAD_CORNER_XY: 333115.66700 5186651.59100
SE_QUAD_CORNERY_XY: 332922.34800 5179706.76800
SW_QUAD_CORNER_XY: 328148.84600 5179841.47600
SECONDARY_NW_QUAD_XY: 328342.42400 5186567.91100
SECONDARY_NE_QUAD_XY: 333110.54400 5186433.21700
SECONDARY_SE_QUAD_XY: 332917.22600 5179488.42500
SECONDARY_SW_QUAD_XY: 328143.57700 5179623.13800
RMSE_XY: 1.30000
IMAGE_SOURCE: BLACK AND WHITE FILM
SOURCE_IMAGE_ID: NAPP 10765 022
SOURCE_IMAGE_DATE: 1997 09 23
SOURCE_IMAGE_ID: NAPP 10765 020
SOURCE_IMAGE_DATE: 1997 09 23
SOURCE_IMAGE_ID: NAPP 10765 023
SOURCE_IMAGE_DATE: 1997 09 23
SOURCE_DEM_DATE: 1997 01 01
AGENCY: WESTERN MAPPING CENTER (WMC)
PRODUCER: UNDEFINED
PRODUCTION_SYSTEM: GIS/MAGIC
COMPRESSION: UNDEFINED
STANDARD_VERSION: 1996 12
METADATA_DATE: 1999 05 24
DATA_FILE_SIZE: 43168712
BYTE_COUNT: 5618
