FILENAME: O4610714.NES.1008564.tif
QUADRANGLE_NAME: MCGINNIS BUTTE SE
QUADRANT: NE
WEST_LONGITUDE: -107 18 45.00000
EAST_LONGITUDE: -107 15 0.00000
NORTH_LATITUDE: 46 52 30.00000
SOUTH_LATITUDE: 46 48 45.00000
PRODUCTION_DATE: 1999 5 24
RASTER_ORDER: LEFT_RIGHT/TOP_BOTTOM
BAND_ORGANIZATION: SINGLE FILE
BAND_CONTENT: BLACK&WHITE
BAND_CONTENT: UNDEFINED
BAND_CONTENT: UNDEFINED
BITS_PER_PIXEL: 8
SAMPLES_AND_LINES: 5618 7687
HORIZONTAL_DATUM: NAD83
HORIZONTAL_COORDINATE_SYSTEM: UTM
COORDINATE_ZONE: 13
HORIZONTAL_UNITS: METERS
HORIZONTAL_RESOLUTION: 1.00000
SECONDARY_HORIZONTAL_DATUM: NAD27
XY_ORIGIN: 323230.00000 5194171.00000
SECONDARY_XY_ORIGIN: 323273.15500 5193951.85100
NATION: US
NATION: "SCIENCE
STATE: MT
NW_QUAD_CORNER_XY: 323784.32000 5193869.61900
NE_QUAD_CORNER_XY: 328546.74600 5193731.15000
SE_QUAD_CORNERY_XY: 328347.69400 5186786.28100
SW_QUAD_CORNER_XY: 323579.73300 5186924.76900
SECONDARY_NW_QUAD_XY: 323778.90300 5193651.22300
SECONDARY_NE_QUAD_XY: 328541.47600 5193512.75000
SECONDARY_SE_QUAD_XY: 328342.42400 5186567.91100
SECONDARY_SW_QUAD_XY: 323574.31700 5186706.40300
RMSE_XY: 1.80000
IMAGE_SOURCE: BLACK AND WHITE FILM
SOURCE_IMAGE_ID: NAPP 9126 010
SOURCE_IMAGE_DATE: 1996 07 14
SOURCE_IMAGE_ID: NAPP 9133 097
SOURCE_IMAGE_DATE: 1996 08 08
SOURCE_IMAGE_ID: NAPP 9126 012
SOURCE_IMAGE_DATE: 1996 07 14
SOURCE_IMAGE_ID: NAPP 9126 009
SOURCE_IMAGE_DATE: 1996 07 14
SOURCE_DEM_DATE: 1997 01 01
AGENCY: WESTERN MAPPING CENTER (WMC)
PRODUCER: UNDEFINED
PRODUCTION_SYSTEM: GIS/MAGIC
COMPRESSION: UNDEFINED
STANDARD_VERSION: 1996 12
METADATA_DATE: 1999 05 24
DATA_FILE_SIZE: 43191184
BYTE_COUNT: 5618
