FILENAME: O4610714.SES.1008566.tif
QUADRANGLE_NAME: MCGINNIS BUTTE SE
QUADRANT: SE
WEST_LONGITUDE: -107 18 45.00000
EAST_LONGITUDE: -107 15 0.00000
NORTH_LATITUDE: 46 48 45.00000
SOUTH_LATITUDE: 46 45 0.00000
PRODUCTION_DATE: 1999 5 24
RASTER_ORDER: LEFT_RIGHT/TOP_BOTTOM
BAND_ORGANIZATION: SINGLE FILE
BAND_CONTENT: BLACK&WHITE
BAND_CONTENT: UNDEFINED
BAND_CONTENT: UNDEFINED
BITS_PER_PIXEL: 8
SAMPLES_AND_LINES: 5624 7687
HORIZONTAL_DATUM: NAD83
HORIZONTAL_COORDINATE_SYSTEM: UTM
COORDINATE_ZONE: 13
HORIZONTAL_UNITS: METERS
HORIZONTAL_RESOLUTION: 1.00000
SECONDARY_HORIZONTAL_DATUM: NAD27
XY_ORIGIN: 323025.00000 5187226.00000
SECONDARY_XY_ORIGIN: 323068.11800 5187007.03900
NATION: US
NATION: "SCIENCE
STATE: MT
NW_QUAD_CORNER_XY: 323579.73300 5186924.76900
NE_QUAD_CORNER_XY: 328347.69400 5186786.28100
SE_QUAD_CORNERY_XY: 328148.84600 5179841.47600
SW_QUAD_CORNER_XY: 323375.35700 5179979.98300
SECONDARY_NW_QUAD_XY: 323574.31700 5186706.40300
SECONDARY_NE_QUAD_XY: 328342.42400 5186567.91100
SECONDARY_SE_QUAD_XY: 328143.57700 5179623.13800
SECONDARY_SW_QUAD_XY: 323369.94200 5179761.64800
RMSE_XY: 2.10000
IMAGE_SOURCE: BLACK AND WHITE FILM
SOURCE_IMAGE_ID: NAPP 9126 012
SOURCE_IMAGE_DATE: 1996 07 14
SOURCE_IMAGE_ID: NAPP 9126 014
SOURCE_IMAGE_DATE: 1996 07 14
SOURCE_IMAGE_ID: NAPP 9126 010
SOURCE_IMAGE_DATE: 1996 07 14
SOURCE_IMAGE_ID: NAPP 10765 022
SOURCE_IMAGE_DATE: 1997 09 23
SOURCE_DEM_DATE: 1997 01 01
AGENCY: WESTERN MAPPING CENTER (WMC)
PRODUCER: UNDEFINED
PRODUCTION_SYSTEM: GIS/MAGIC
COMPRESSION: UNDEFINED
STANDARD_VERSION: 1996 12
METADATA_DATE: 1999 05 24
DATA_FILE_SIZE: 43237312
BYTE_COUNT: 5624
