FILENAME: O4610713.NWS.1009036.tif
QUADRANGLE_NAME: MCGINNIS BUTTE SW
QUADRANT: NW
WEST_LONGITUDE: -107 30 0.00000
EAST_LONGITUDE: -107 26 15.00000
NORTH_LATITUDE: 46 52 30.00000
SOUTH_LATITUDE: 46 48 45.00000
PRODUCTION_DATE: 1999 5 24
RASTER_ORDER: LEFT_RIGHT/TOP_BOTTOM
BAND_ORGANIZATION: SINGLE FILE
BAND_CONTENT: BLACK&WHITE
BAND_CONTENT: UNDEFINED
BAND_CONTENT: UNDEFINED
BITS_PER_PIXEL: 8
SAMPLES_AND_LINES: 5636 7698
HORIZONTAL_DATUM: NAD83
HORIZONTAL_COORDINATE_SYSTEM: UTM
COORDINATE_ZONE: 13
HORIZONTAL_UNITS: METERS
HORIZONTAL_RESOLUTION: 1.00000
SECONDARY_HORIZONTAL_DATUM: NAD27
XY_ORIGIN: 308925.00000 5194609.00000
SECONDARY_XY_ORIGIN: 308968.51600 5194389.92500
NATION: US
NATION: "SCIENCE
STATE: MT
NW_QUAD_CORNER_XY: 309497.12500 5194307.81000
NE_QUAD_CORNER_XY: 314259.50900 5194157.94800
SE_QUAD_CORNERY_XY: 314043.85100 5187213.13900
SW_QUAD_CORNER_XY: 309275.93100 5187363.02100
SECONDARY_NW_QUAD_XY: 309491.26900 5194089.42800
SECONDARY_NE_QUAD_XY: 314253.80000 5193939.56100
SECONDARY_SE_QUAD_XY: 314038.14200 5186994.78200
SECONDARY_SW_QUAD_XY: 309270.07600 5187144.66900
RMSE_XY: 1.50000
IMAGE_SOURCE: BLACK AND WHITE FILM
SOURCE_IMAGE_ID: NAPP 9133 244
SOURCE_IMAGE_DATE: 1996 08 08
SOURCE_IMAGE_ID: NAPP 9135 032
SOURCE_IMAGE_DATE: 1996 08 19
SOURCE_IMAGE_ID: NAPP 9133 242
SOURCE_IMAGE_DATE: 1996 08 08
SOURCE_IMAGE_ID: NAPP 9133 245
SOURCE_IMAGE_DATE: 1996 08 08
SOURCE_DEM_DATE: 1989 00 00
AGENCY: WESTERN MAPPING CENTER (WMC)
PRODUCER: UNDEFINED
PRODUCTION_SYSTEM: GIS/MAGIC
COMPRESSION: UNDEFINED
STANDARD_VERSION: 1996 12
METADATA_DATE: 1999 05 24
DATA_FILE_SIZE: 43391564
BYTE_COUNT: 5636
