FILENAME: O4610713.SWS.1009038.tif
QUADRANGLE_NAME: MCGINNIS BUTTE SW
QUADRANT: SW
WEST_LONGITUDE: -107 30 0.00000
EAST_LONGITUDE: -107 26 15.00000
NORTH_LATITUDE: 46 48 45.00000
SOUTH_LATITUDE: 46 45 0.00000
PRODUCTION_DATE: 1999 5 24
RASTER_ORDER: LEFT_RIGHT/TOP_BOTTOM
BAND_ORGANIZATION: SINGLE FILE
BAND_CONTENT: BLACK&WHITE
BAND_CONTENT: UNDEFINED
BAND_CONTENT: UNDEFINED
BITS_PER_PIXEL: 8
SAMPLES_AND_LINES: 5641 7698
HORIZONTAL_DATUM: NAD83
HORIZONTAL_COORDINATE_SYSTEM: UTM
COORDINATE_ZONE: 13
HORIZONTAL_UNITS: METERS
HORIZONTAL_RESOLUTION: 1.00000
SECONDARY_HORIZONTAL_DATUM: NAD27
XY_ORIGIN: 308704.00000 5187664.00000
SECONDARY_XY_ORIGIN: 308747.50600 5187445.13100
NATION: US
NATION: "SCIENCE
STATE: MT
NW_QUAD_CORNER_XY: 309275.93100 5187363.02100
NE_QUAD_CORNER_XY: 314043.85100 5187213.13900
SE_QUAD_CORNERY_XY: 313828.41600 5180268.39100
SW_QUAD_CORNER_XY: 309054.96600 5180418.29400
SECONDARY_NW_QUAD_XY: 309270.07600 5187144.66900
SECONDARY_NE_QUAD_XY: 314038.14200 5186994.78200
SECONDARY_SE_QUAD_XY: 313822.70800 5180050.06500
SECONDARY_SW_QUAD_XY: 309049.11100 5180199.97300
RMSE_XY: 1.40000
IMAGE_SOURCE: BLACK AND WHITE FILM
SOURCE_IMAGE_ID: NAPP 9133 242
SOURCE_IMAGE_DATE: 1996 08 08
SOURCE_IMAGE_ID: NAPP 9135 034
SOURCE_IMAGE_DATE: 1996 08 19
SOURCE_IMAGE_ID: NAPP 9133 240
SOURCE_IMAGE_DATE: 1996 08 08
SOURCE_IMAGE_ID: NAPP 9133 243
SOURCE_IMAGE_DATE: 1996 08 08
SOURCE_IMAGE_ID: NAPP 9133 244
SOURCE_IMAGE_DATE: 1996 08 08
SOURCE_DEM_DATE: 1989 00 00
AGENCY: WESTERN MAPPING CENTER (WMC)
PRODUCER: UNDEFINED
PRODUCTION_SYSTEM: GIS/MAGIC
COMPRESSION: UNDEFINED
STANDARD_VERSION: 1996 12
METADATA_DATE: 1999 05 24
DATA_FILE_SIZE: 43430059
BYTE_COUNT: 5641
