FILENAME: O4610712.SES.1009025.tif
QUADRANGLE_NAME: REGNAL COULEE
QUADRANT: SE
WEST_LONGITUDE: -107 33 45.00000
EAST_LONGITUDE: -107 30 0.00000
NORTH_LATITUDE: 46 48 45.00000
SOUTH_LATITUDE: 46 45 0.00000
PRODUCTION_DATE: 1999 5 24
RASTER_ORDER: LEFT_RIGHT/TOP_BOTTOM
BAND_ORGANIZATION: SINGLE FILE
BAND_CONTENT: BLACK&WHITE
BAND_CONTENT: UNDEFINED
BAND_CONTENT: UNDEFINED
BITS_PER_PIXEL: 8
SAMPLES_AND_LINES: 5647 7702
HORIZONTAL_DATUM: NAD83
HORIZONTAL_COORDINATE_SYSTEM: UTM
COORDINATE_ZONE: 13
HORIZONTAL_UNITS: METERS
HORIZONTAL_RESOLUTION: 1.00000
SECONDARY_HORIZONTAL_DATUM: NAD27
XY_ORIGIN: 303930.00000 5187818.00000
SECONDARY_XY_ORIGIN: 303973.60900 5187599.18300
NATION: US
NATION: "SCIENCE
STATE: MT
NW_QUAD_CORNER_XY: 304508.02500 5187516.70300
NE_QUAD_CORNER_XY: 309275.93100 5187363.02100
SE_QUAD_CORNERY_XY: 309054.96600 5180418.29400
SW_QUAD_CORNER_XY: 304281.52900 5180571.99600
SECONDARY_NW_QUAD_XY: 304502.02400 5187298.35500
SECONDARY_NE_QUAD_XY: 309270.07600 5187144.66900
SECONDARY_SE_QUAD_XY: 309049.11100 5180199.97300
SECONDARY_SW_QUAD_XY: 304275.52800 5180353.68000
RMSE_XY: 1.50000
IMAGE_SOURCE: BLACK AND WHITE FILM
SOURCE_IMAGE_ID: NAPP 9135 034
SOURCE_IMAGE_DATE: 1996 08 19
SOURCE_IMAGE_ID: NAPP 9135 033
SOURCE_IMAGE_DATE: 1996 08 19
SOURCE_DEM_DATE: 1988 00 00
AGENCY: WESTERN MAPPING CENTER (WMC)
PRODUCER: UNDEFINED
PRODUCTION_SYSTEM: GIS/MAGIC
COMPRESSION: UNDEFINED
STANDARD_VERSION: 1996 12
METADATA_DATE: 1999 05 24
DATA_FILE_SIZE: 43498841
BYTE_COUNT: 5647
