FILENAME: O4610711.SWS.1009314.tif
QUADRANGLE_NAME: KINCHELOE RANCH
QUADRANT: SW
WEST_LONGITUDE: -107 45 0.00000
EAST_LONGITUDE: -107 41 15.00000
NORTH_LATITUDE: 46 48 45.00000
SOUTH_LATITUDE: 46 45 0.00000
PRODUCTION_DATE: 1999 5 5
RASTER_ORDER: LEFT_RIGHT/TOP_BOTTOM
BAND_ORGANIZATION: SINGLE FILE
BAND_CONTENT: BLACK&WHITE
BAND_CONTENT: UNDEFINED
BAND_CONTENT: UNDEFINED
BITS_PER_PIXEL: 8
SAMPLES_AND_LINES: 5665 7713
HORIZONTAL_DATUM: NAD83
HORIZONTAL_COORDINATE_SYSTEM: UTM
COORDINATE_ZONE: 13
HORIZONTAL_UNITS: METERS
HORIZONTAL_RESOLUTION: 1.00000
SECONDARY_HORIZONTAL_DATUM: NAD27
XY_ORIGIN: 289609.00000 5188301.00000
SECONDARY_XY_ORIGIN: 289652.92800 5188082.33400
NATION: US
NATION: "SCIENCE
STATE: MT
NW_QUAD_CORNER_XY: 290204.39700 5188000.54500
NE_QUAD_CORNER_XY: 294972.25800 5187835.46400
SE_QUAD_CORNERY_XY: 294734.69800 5180890.80000
SW_QUAD_CORNER_XY: 289961.30500 5181055.90300
SECONDARY_NW_QUAD_XY: 290197.95600 5187782.21200
SECONDARY_NE_QUAD_XY: 294965.96300 5187617.12600
SECONDARY_SE_QUAD_XY: 294728.40500 5180672.49400
SECONDARY_SW_QUAD_XY: 289954.86500 5180837.60200
RMSE_XY: 1.40000
IMAGE_SOURCE: BLACK AND WHITE FILM
SOURCE_IMAGE_ID: NAPP 9131 161
SOURCE_IMAGE_DATE: 1996 07 29
SOURCE_IMAGE_ID: NAPP 9131 162
SOURCE_IMAGE_DATE: 1996 07 29
SOURCE_DEM_DATE: 1988 00 00
AGENCY: WESTERN MAPPING CENTER (WMC)
PRODUCER: UNDEFINED
PRODUCTION_SYSTEM: GIS/MAGIC
COMPRESSION: UNDEFINED
STANDARD_VERSION: 1996 12
METADATA_DATE: 1999 06 15
DATA_FILE_SIZE: 43699810
BYTE_COUNT: 5665
