FILENAME: O4610709.NWS.1008835.tif
QUADRANGLE_NAME: MAXWELL RANCH
QUADRANT: NW
WEST_LONGITUDE: -108 0 0.00000
EAST_LONGITUDE: -107 56 15.00000
NORTH_LATITUDE: 46 52 30.00000
SOUTH_LATITUDE: 46 48 45.00000
PRODUCTION_DATE: 1999 5 21
RASTER_ORDER: LEFT_RIGHT/TOP_BOTTOM
BAND_ORGANIZATION: SINGLE FILE
BAND_CONTENT: BLACK&WHITE
BAND_CONTENT: UNDEFINED
BAND_CONTENT: UNDEFINED
BITS_PER_PIXEL: 8
SAMPLES_AND_LINES: 5682 7728
HORIZONTAL_DATUM: NAD83
HORIZONTAL_COORDINATE_SYSTEM: UTM
COORDINATE_ZONE: 13
HORIZONTAL_UNITS: METERS
HORIZONTAL_RESOLUTION: 1.00000
SECONDARY_HORIZONTAL_DATUM: NAD27
XY_ORIGIN: 270780.00000 5195944.00000
SECONDARY_XY_ORIGIN: 270824.11900 5195725.66400
NATION: US
NATION: "SCIENCE
STATE: MT
NW_QUAD_CORNER_XY: 271398.61400 5195643.47600
NE_QUAD_CORNER_XY: 276160.87000 5195463.21700
SE_QUAD_CORNERY_XY: 275900.91000 5188518.58900
SW_QUAD_CORNER_XY: 271133.11400 5188698.87300
SECONDARY_NW_QUAD_XY: 271391.58600 5195425.13500
SECONDARY_NE_QUAD_XY: 276153.98800 5195244.87000
SECONDARY_SE_QUAD_XY: 275894.02900 5188300.27300
SECONDARY_SW_QUAD_XY: 271126.08700 5188480.56200
RMSE_XY: 3.80000
IMAGE_SOURCE: BLACK AND WHITE FILM
SOURCE_IMAGE_ID: NAPP 9132 164
SOURCE_IMAGE_DATE: 1996 07 29
SOURCE_IMAGE_ID: NAPP 9132 163
SOURCE_IMAGE_DATE: 1996 07 29
SOURCE_IMAGE_ID: NAPP 9132 165
SOURCE_IMAGE_DATE: 1996 07 29
SOURCE_IMAGE_ID: NAPP 9132 134
SOURCE_IMAGE_DATE: 1996 07 29
SOURCE_DEM_DATE: 1997 01 01
AGENCY: WESTERN MAPPING CENTER (WMC)
PRODUCER: UNDEFINED
PRODUCTION_SYSTEM: GIS/MAGIC
COMPRESSION: UNDEFINED
STANDARD_VERSION: 1996 12
METADATA_DATE: 1999 06 02
DATA_FILE_SIZE: 43916178
BYTE_COUNT: 5682
