FILENAME: O4610709.SES.1008836.tif
QUADRANGLE_NAME: MAXWELL RANCH
QUADRANT: SE
WEST_LONGITUDE: -107 56 15.00000
EAST_LONGITUDE: -107 52 30.00000
NORTH_LATITUDE: 46 48 45.00000
SOUTH_LATITUDE: 46 45 0.00000
PRODUCTION_DATE: 1999 5 21
RASTER_ORDER: LEFT_RIGHT/TOP_BOTTOM
BAND_ORGANIZATION: SINGLE FILE
BAND_CONTENT: BLACK&WHITE
BAND_CONTENT: UNDEFINED
BAND_CONTENT: UNDEFINED
BITS_PER_PIXEL: 8
SAMPLES_AND_LINES: 5681 7724
HORIZONTAL_DATUM: NAD83
HORIZONTAL_COORDINATE_SYSTEM: UTM
COORDINATE_ZONE: 13
HORIZONTAL_UNITS: METERS
HORIZONTAL_RESOLUTION: 1.00000
SECONDARY_HORIZONTAL_DATUM: NAD27
XY_ORIGIN: 275289.00000 5188819.00000
SECONDARY_XY_ORIGIN: 275333.09100 5188600.69400
NATION: US
NATION: "SCIENCE
STATE: MT
NW_QUAD_CORNER_XY: 275900.91000 5188518.58900
NE_QUAD_CORNER_XY: 280668.72300 5188342.10700
SE_QUAD_CORNERY_XY: 280414.56400 5181397.51100
SW_QUAD_CORNER_XY: 275641.21800 5181574.01800
SECONDARY_NW_QUAD_XY: 275894.02900 5188300.27300
SECONDARY_NE_QUAD_XY: 280661.98800 5188123.78500
SECONDARY_SE_QUAD_XY: 280407.83200 5181179.22000
SECONDARY_SW_QUAD_XY: 275634.33900 5181355.73200
RMSE_XY: 4.30000
IMAGE_SOURCE: BLACK AND WHITE FILM
SOURCE_IMAGE_ID: NAPP 9132 135
SOURCE_IMAGE_DATE: 1996 07 29
SOURCE_IMAGE_ID: NAPP 9132 162
SOURCE_IMAGE_DATE: 1996 07 29
SOURCE_IMAGE_ID: NAPP 9151 077
SOURCE_IMAGE_DATE: 1996 09 11
SOURCE_IMAGE_ID: NAPP 9132 134
SOURCE_IMAGE_DATE: 1996 07 29
SOURCE_IMAGE_ID: NAPP 9132 046
SOURCE_IMAGE_DATE: 1996 07 29
SOURCE_DEM_DATE: 1997 01 01
AGENCY: WESTERN MAPPING CENTER (WMC)
PRODUCER: UNDEFINED
PRODUCTION_SYSTEM: GIS/MAGIC
COMPRESSION: UNDEFINED
STANDARD_VERSION: 1996 12
METADATA_DATE: 1999 06 02
DATA_FILE_SIZE: 43885725
BYTE_COUNT: 5681
