FILENAME: O4610708.NWS.1115025.tif
QUADRANGLE_NAME: KRAMER RANCH
QUADRANT: NW
WEST_LONGITUDE: -107 7 30.00000
EAST_LONGITUDE: -107 3 45.00000
NORTH_LATITUDE: 47 0 0.00000
SOUTH_LATITUDE: 46 56 15.00000
PRODUCTION_DATE: 2000 11 16
RASTER_ORDER: LEFT_RIGHT/TOP_BOTTOM
BAND_ORGANIZATION: SINGLE FILE
BAND_CONTENT: BLACK&WHITE
BAND_CONTENT: UNDEFINED
BAND_CONTENT: UNDEFINED
BITS_PER_PIXEL: 8
SAMPLES_AND_LINES: 5591 7676
HORIZONTAL_DATUM: NAD83
HORIZONTAL_COORDINATE_SYSTEM: UTM
COORDINATE_ZONE: 13
HORIZONTAL_UNITS: METERS
HORIZONTAL_RESOLUTION: 1.00000
SECONDARY_HORIZONTAL_DATUM: NAD27
XY_ORIGIN: 337910.00000 5207657.00000
SECONDARY_XY_ORIGIN: 337952.89400 5207437.50700
NATION: US
NATION: "SCIENCE
STATE: MT
NW_QUAD_CORNER_XY: 338448.18900 5207355.61300
NE_QUAD_CORNER_XY: 343199.56900 5207228.57300
SE_QUAD_CORNERY_XY: 343016.74200 5200283.51600
SW_QUAD_CORNER_XY: 338259.81600 5200410.57600
SECONDARY_NW_QUAD_XY: 338443.21000 5207137.14700
SECONDARY_NE_QUAD_XY: 343194.73700 5207010.10200
SECONDARY_SE_QUAD_XY: 343011.91000 5200065.07400
SECONDARY_SW_QUAD_XY: 338254.83800 5200192.13800
RMSE_XY: 2.20000
IMAGE_SOURCE: BLACK AND WHITE FILM
SOURCE_IMAGE_ID: NAPP 9099 231
SOURCE_IMAGE_DATE: 1996 07 14
SOURCE_IMAGE_ID: NAPP 9099 230
SOURCE_IMAGE_DATE: 1996 07 14
SOURCE_IMAGE_ID: NAPP 9099 100
SOURCE_IMAGE_DATE: 1996 07 14
SOURCE_DEM_DATE: 2000 01 01
AGENCY: WESTERN MAPPING CENTER (WMC)
PRODUCER: UNDEFINED
PRODUCTION_SYSTEM: GIS/MAGIC
COMPRESSION: UNDEFINED
STANDARD_VERSION: 1996 12
METADATA_DATE: 2000 11 17
DATA_FILE_SIZE: 42922107
BYTE_COUNT: 5591
