FILENAME: O4610708.SES.1115026.tif
QUADRANGLE_NAME: KRAMER RANCH
QUADRANT: SE
WEST_LONGITUDE: -107 3 45.00000
EAST_LONGITUDE: -107 0 0.00000
NORTH_LATITUDE: 46 56 15.00000
SOUTH_LATITUDE: 46 52 30.00000
PRODUCTION_DATE: 2000 11 16
RASTER_ORDER: LEFT_RIGHT/TOP_BOTTOM
BAND_ORGANIZATION: SINGLE FILE
BAND_CONTENT: BLACK&WHITE
BAND_CONTENT: UNDEFINED
BAND_CONTENT: UNDEFINED
BITS_PER_PIXEL: 8
SAMPLES_AND_LINES: 5590 7672
HORIZONTAL_DATUM: NAD83
HORIZONTAL_COORDINATE_SYSTEM: UTM
COORDINATE_ZONE: 13
HORIZONTAL_UNITS: METERS
HORIZONTAL_RESOLUTION: 1.00000
SECONDARY_HORIZONTAL_DATUM: NAD27
XY_ORIGIN: 342485.00000 5200585.00000
SECONDARY_XY_ORIGIN: 342527.74500 5200365.67500
NATION: US
NATION: "SCIENCE
STATE: MT
NW_QUAD_CORNER_XY: 343016.74200 5200283.51600
NE_QUAD_CORNER_XY: 347773.68000 5200160.25200
SE_QUAD_CORNERY_XY: 347596.57900 5193215.24500
SW_QUAD_CORNER_XY: 342834.10200 5193338.52600
SECONDARY_NW_QUAD_XY: 343011.91000 5200065.07400
SECONDARY_NE_QUAD_XY: 347768.99400 5199941.80600
SECONDARY_SE_QUAD_XY: 347591.89400 5192996.82800
SECONDARY_SW_QUAD_XY: 342829.27100 5193120.11400
RMSE_XY: 2.10000
IMAGE_SOURCE: BLACK AND WHITE FILM
SOURCE_IMAGE_ID: NAPP 9099 103
SOURCE_IMAGE_DATE: 1996 07 14
SOURCE_DEM_DATE: 2000 01 01
AGENCY: WESTERN MAPPING CENTER (WMC)
PRODUCER: UNDEFINED
PRODUCTION_SYSTEM: GIS/MAGIC
COMPRESSION: UNDEFINED
STANDARD_VERSION: 1996 12
METADATA_DATE: 2000 11 17
DATA_FILE_SIZE: 42892070
BYTE_COUNT: 5590
