FILENAME: O4610707.NES.1114988.tif
QUADRANGLE_NAME: SCHOOL BUTTE
QUADRANT: NE
WEST_LONGITUDE: -107 11 15.00000
EAST_LONGITUDE: -107 7 30.00000
NORTH_LATITUDE: 47 0 0.00000
SOUTH_LATITUDE: 46 56 15.00000
PRODUCTION_DATE: 2000 11 16
RASTER_ORDER: LEFT_RIGHT/TOP_BOTTOM
BAND_ORGANIZATION: SINGLE FILE
BAND_CONTENT: BLACK&WHITE
BAND_CONTENT: UNDEFINED
BAND_CONTENT: UNDEFINED
BITS_PER_PIXEL: 8
SAMPLES_AND_LINES: 5597 7680
HORIZONTAL_DATUM: NAD83
HORIZONTAL_COORDINATE_SYSTEM: UTM
COORDINATE_ZONE: 13
HORIZONTAL_UNITS: METERS
HORIZONTAL_RESOLUTION: 1.00000
SECONDARY_HORIZONTAL_DATUM: NAD27
XY_ORIGIN: 333153.00000 5207788.00000
SECONDARY_XY_ORIGIN: 333196.00900 5207568.48400
NATION: US
NATION: "SCIENCE
STATE: MT
NW_QUAD_CORNER_XY: 333696.82100 5207486.45000
NE_QUAD_CORNER_XY: 338448.18900 5207355.61300
SE_QUAD_CORNERY_XY: 338259.81600 5200410.57600
SW_QUAD_CORNER_XY: 333502.90400 5200541.43200
SECONDARY_NW_QUAD_XY: 333691.69600 5207267.98700
SECONDARY_NE_QUAD_XY: 338443.21000 5207137.14700
SECONDARY_SE_QUAD_XY: 338254.83800 5200192.13800
SECONDARY_SW_QUAD_XY: 333497.77900 5200322.99800
RMSE_XY: 2.50000
IMAGE_SOURCE: BLACK AND WHITE FILM
SOURCE_IMAGE_ID: NAPP 9100 014
SOURCE_IMAGE_DATE: 1996 07 14
SOURCE_IMAGE_ID: NAPP 9099 230
SOURCE_IMAGE_DATE: 1996 07 14
SOURCE_DEM_DATE: 2000 01 01
AGENCY: WESTERN MAPPING CENTER (WMC)
PRODUCER: UNDEFINED
PRODUCTION_SYSTEM: GIS/MAGIC
COMPRESSION: UNDEFINED
STANDARD_VERSION: 1996 12
METADATA_DATE: 2000 11 17
DATA_FILE_SIZE: 42990557
BYTE_COUNT: 5597
