FILENAME: O4610707.SWS.1114991.tif
QUADRANGLE_NAME: SCHOOL BUTTE
QUADRANT: SW
WEST_LONGITUDE: -107 15 0.00000
EAST_LONGITUDE: -107 11 15.00000
NORTH_LATITUDE: 46 56 15.00000
SOUTH_LATITUDE: 46 52 30.00000
PRODUCTION_DATE: 2000 11 16
RASTER_ORDER: LEFT_RIGHT/TOP_BOTTOM
BAND_ORGANIZATION: SINGLE FILE
BAND_CONTENT: BLACK&WHITE
BAND_CONTENT: UNDEFINED
BAND_CONTENT: UNDEFINED
BITS_PER_PIXEL: 8
SAMPLES_AND_LINES: 5607 7684
HORIZONTAL_DATUM: NAD83
HORIZONTAL_COORDINATE_SYSTEM: UTM
COORDINATE_ZONE: 13
HORIZONTAL_UNITS: METERS
HORIZONTAL_RESOLUTION: 1.00000
SECONDARY_HORIZONTAL_DATUM: NAD27
XY_ORIGIN: 328197.00000 5200978.00000
SECONDARY_XY_ORIGIN: 328240.07700 5200758.64200
NATION: US
NATION: "SCIENCE
STATE: MT
NW_QUAD_CORNER_XY: 328746.00400 5200676.08400
NE_QUAD_CORNER_XY: 333502.90400 5200541.43200
SE_QUAD_CORNERY_XY: 333309.18600 5193596.47900
SW_QUAD_CORNER_XY: 328546.74600 5193731.15000
SECONDARY_NW_QUAD_XY: 328740.73300 5200457.65400
SECONDARY_NE_QUAD_XY: 333497.77900 5200322.99800
SECONDARY_SE_QUAD_XY: 333304.06100 5193378.07400
SECONDARY_SW_QUAD_XY: 328541.47600 5193512.75000
RMSE_XY: 2.10000
IMAGE_SOURCE: BLACK AND WHITE FILM
SOURCE_IMAGE_ID: NAPP 10765 026
SOURCE_IMAGE_DATE: 1997 09 23
SOURCE_DEM_DATE: 2000 01 01
AGENCY: WESTERN MAPPING CENTER (WMC)
PRODUCER: UNDEFINED
PRODUCTION_SYSTEM: GIS/MAGIC
COMPRESSION: UNDEFINED
STANDARD_VERSION: 1996 12
METADATA_DATE: 2000 11 17
DATA_FILE_SIZE: 43089795
BYTE_COUNT: 5607
