FILENAME: O4610706.NES.1114954.tif
QUADRANGLE_NAME: EMMA BUTTE
QUADRANT: NE
WEST_LONGITUDE: -107 18 45.00000
EAST_LONGITUDE: -107 15 0.00000
NORTH_LATITUDE: 47 0 0.00000
SOUTH_LATITUDE: 46 56 15.00000
PRODUCTION_DATE: 2000 11 9
RASTER_ORDER: LEFT_RIGHT/TOP_BOTTOM
BAND_ORGANIZATION: SINGLE FILE
BAND_CONTENT: BLACK&WHITE
BAND_CONTENT: UNDEFINED
BAND_CONTENT: UNDEFINED
BITS_PER_PIXEL: 8
SAMPLES_AND_LINES: 5608 7687
HORIZONTAL_DATUM: NAD83
HORIZONTAL_COORDINATE_SYSTEM: UTM
COORDINATE_ZONE: 13
HORIZONTAL_UNITS: METERS
HORIZONTAL_RESOLUTION: 1.00000
SECONDARY_HORIZONTAL_DATUM: NAD27
XY_ORIGIN: 323639.00000 5208061.00000
SECONDARY_XY_ORIGIN: 323682.22900 5207841.47600
NATION: US
NATION: "SCIENCE
STATE: MT
NW_QUAD_CORNER_XY: 324194.12800 5207759.51000
NE_QUAD_CORNER_XY: 328945.46800 5207621.08200
SE_QUAD_CORNERY_XY: 328746.00400 5200676.08400
SW_QUAD_CORNER_XY: 323989.11900 5200814.53300
SECONDARY_NW_QUAD_XY: 324188.70900 5207541.05600
SECONDARY_NE_QUAD_XY: 328940.19500 5207402.62300
SECONDARY_SE_QUAD_XY: 328740.73300 5200457.65400
SECONDARY_SW_QUAD_XY: 323983.70100 5200596.10700
RMSE_XY: 1.30000
IMAGE_SOURCE: BLACK AND WHITE FILM
SOURCE_IMAGE_ID: NAPP 9126 006
SOURCE_IMAGE_DATE: 1996 07 14
SOURCE_IMAGE_ID: NAPP 9135 010
SOURCE_IMAGE_DATE: 1996 08 19
SOURCE_DEM_DATE: 2000 01 01
AGENCY: WESTERN MAPPING CENTER (WMC)
PRODUCER: UNDEFINED
PRODUCTION_SYSTEM: GIS/MAGIC
COMPRESSION: UNDEFINED
STANDARD_VERSION: 1996 12
METADATA_DATE: 2000 11 17
DATA_FILE_SIZE: 43114304
BYTE_COUNT: 5608
