FILENAME: O4610706.SWS.1114957.tif
QUADRANGLE_NAME: EMMA BUTTE
QUADRANT: SW
WEST_LONGITUDE: -107 22 30.00000
EAST_LONGITUDE: -107 18 45.00000
NORTH_LATITUDE: 46 56 15.00000
SOUTH_LATITUDE: 46 52 30.00000
PRODUCTION_DATE: 2000 11 9
RASTER_ORDER: LEFT_RIGHT/TOP_BOTTOM
BAND_ORGANIZATION: SINGLE FILE
BAND_CONTENT: BLACK&WHITE
BAND_CONTENT: UNDEFINED
BAND_CONTENT: UNDEFINED
BITS_PER_PIXEL: 8
SAMPLES_AND_LINES: 5619 7691
HORIZONTAL_DATUM: NAD83
HORIZONTAL_COORDINATE_SYSTEM: UTM
COORDINATE_ZONE: 13
HORIZONTAL_UNITS: METERS
HORIZONTAL_RESOLUTION: 1.00000
SECONDARY_HORIZONTAL_DATUM: NAD27
XY_ORIGIN: 318672.00000 5201258.00000
SECONDARY_XY_ORIGIN: 318715.30300 5201038.68300
NATION: US
NATION: "SCIENCE
STATE: MT
NW_QUAD_CORNER_XY: 319232.24700 5200956.77800
NE_QUAD_CORNER_XY: 323989.11900 5200814.53300
SE_QUAD_CORNERY_XY: 323784.32000 5193869.61900
SW_QUAD_CORNER_XY: 319021.90800 5194011.88500
SECONDARY_NW_QUAD_XY: 319226.68300 5200738.35700
SECONDARY_NE_QUAD_XY: 323983.70100 5200596.10700
SECONDARY_SE_QUAD_XY: 323778.90300 5193651.22300
SECONDARY_SW_QUAD_XY: 319016.34400 5193793.49300
RMSE_XY: 1.60000
IMAGE_SOURCE: BLACK AND WHITE FILM
SOURCE_IMAGE_ID: NAPP 9133 099
SOURCE_IMAGE_DATE: 1996 08 08
SOURCE_IMAGE_ID: NAPP 9133 100
SOURCE_IMAGE_DATE: 1996 08 08
SOURCE_DEM_DATE: 2000 01 01
AGENCY: WESTERN MAPPING CENTER (WMC)
PRODUCER: UNDEFINED
PRODUCTION_SYSTEM: GIS/MAGIC
COMPRESSION: UNDEFINED
STANDARD_VERSION: 1996 12
METADATA_DATE: 2000 11 17
DATA_FILE_SIZE: 43221348
BYTE_COUNT: 5619
