FILENAME: O4610704.NES.1112178.tif
QUADRANGLE_NAME: MCWILLIAMS SPRINGS
QUADRANT: NE
WEST_LONGITUDE: -107 33 45.00000
EAST_LONGITUDE: -107 30 0.00000
NORTH_LATITUDE: 47 0 0.00000
SOUTH_LATITUDE: 46 56 15.00000
PRODUCTION_DATE: 2000 11 7
RASTER_ORDER: LEFT_RIGHT/TOP_BOTTOM
BAND_ORGANIZATION: SINGLE FILE
BAND_CONTENT: BLACK&WHITE
BAND_CONTENT: UNDEFINED
BAND_CONTENT: UNDEFINED
BITS_PER_PIXEL: 8
SAMPLES_AND_LINES: 5631 7703
HORIZONTAL_DATUM: NAD83
HORIZONTAL_COORDINATE_SYSTEM: UTM
COORDINATE_ZONE: 13
HORIZONTAL_UNITS: METERS
HORIZONTAL_RESOLUTION: 1.00000
SECONDARY_HORIZONTAL_DATUM: NAD27
XY_ORIGIN: 304611.00000 5208653.00000
SECONDARY_XY_ORIGIN: 304654.61900 5208433.56700
NATION: US
NATION: "SCIENCE
STATE: MT
NW_QUAD_CORNER_XY: 305188.91800 5208351.18900
NE_QUAD_CORNER_XY: 309940.19700 5208197.57400
SE_QUAD_CORNERY_XY: 309718.54700 5201252.66100
SW_QUAD_CORNER_XY: 304961.72000 5201406.29900
SECONDARY_NW_QUAD_XY: 305182.91300 5208132.75300
SECONDARY_NE_QUAD_XY: 309934.33900 5207979.13300
SECONDARY_SE_QUAD_XY: 309712.69000 5201034.24900
SECONDARY_SW_QUAD_XY: 304955.71600 5201187.89200
RMSE_XY: 1.50000
IMAGE_SOURCE: BLACK AND WHITE FILM
SOURCE_IMAGE_ID: NAPP 9135 028
SOURCE_IMAGE_DATE: 1996 08 19
SOURCE_DEM_DATE: 1990 00 00
AGENCY: WESTERN MAPPING CENTER (WMC)
PRODUCER: UNDEFINED
PRODUCTION_SYSTEM: GIS/MAGIC
COMPRESSION: UNDEFINED
STANDARD_VERSION: 1996 12
METADATA_DATE: 2000 11 16
DATA_FILE_SIZE: 43381224
BYTE_COUNT: 5631
