FILENAME: O4610704.SES.1112180.tif
QUADRANGLE_NAME: MCWILLIAMS SPRINGS
QUADRANT: SE
WEST_LONGITUDE: -107 33 45.00000
EAST_LONGITUDE: -107 30 0.00000
NORTH_LATITUDE: 46 56 15.00000
SOUTH_LATITUDE: 46 52 30.00000
PRODUCTION_DATE: 2000 11 7
RASTER_ORDER: LEFT_RIGHT/TOP_BOTTOM
BAND_ORGANIZATION: SINGLE FILE
BAND_CONTENT: BLACK&WHITE
BAND_CONTENT: UNDEFINED
BAND_CONTENT: UNDEFINED
BITS_PER_PIXEL: 8
SAMPLES_AND_LINES: 5636 7703
HORIZONTAL_DATUM: NAD83
HORIZONTAL_COORDINATE_SYSTEM: UTM
COORDINATE_ZONE: 13
HORIZONTAL_UNITS: METERS
HORIZONTAL_RESOLUTION: 1.00000
SECONDARY_HORIZONTAL_DATUM: NAD27
XY_ORIGIN: 304384.00000 5201708.00000
SECONDARY_XY_ORIGIN: 304427.61600 5201488.77200
NATION: US
NATION: "SCIENCE
STATE: MT
NW_QUAD_CORNER_XY: 304961.72000 5201406.29900
NE_QUAD_CORNER_XY: 309718.54700 5201252.66100
SE_QUAD_CORNERY_XY: 309497.12500 5194307.81000
SW_QUAD_CORNER_XY: 304734.75600 5194461.47100
SECONDARY_NW_QUAD_XY: 304955.71600 5201187.89200
SECONDARY_NE_QUAD_XY: 309712.69000 5201034.24900
SECONDARY_SE_QUAD_XY: 309491.26900 5194089.42800
SECONDARY_SW_QUAD_XY: 304728.75300 5194243.09300
RMSE_XY: 1.90000
IMAGE_SOURCE: BLACK AND WHITE FILM
SOURCE_IMAGE_ID: NAPP 9135 030
SOURCE_IMAGE_DATE: 1996 08 19
SOURCE_DEM_DATE: 1990 00 00
AGENCY: WESTERN MAPPING CENTER (WMC)
PRODUCER: UNDEFINED
PRODUCTION_SYSTEM: GIS/MAGIC
COMPRESSION: UNDEFINED
STANDARD_VERSION: 1996 12
METADATA_DATE: 2000 11 16
DATA_FILE_SIZE: 43419744
BYTE_COUNT: 5636
