FILENAME: O4610703.NES.1112154.tif
QUADRANGLE_NAME: DUTTON RANCH
QUADRANT: NE
WEST_LONGITUDE: -107 41 15.00000
EAST_LONGITUDE: -107 37 30.00000
NORTH_LATITUDE: 47 0 0.00000
SOUTH_LATITUDE: 46 56 15.00000
PRODUCTION_DATE: 2000 11 16
RASTER_ORDER: LEFT_RIGHT/TOP_BOTTOM
BAND_ORGANIZATION: SINGLE FILE
BAND_CONTENT: BLACK&WHITE
BAND_CONTENT: UNDEFINED
BAND_CONTENT: UNDEFINED
BITS_PER_PIXEL: 8
SAMPLES_AND_LINES: 5642 7710
HORIZONTAL_DATUM: NAD83
HORIZONTAL_COORDINATE_SYSTEM: UTM
COORDINATE_ZONE: 13
HORIZONTAL_UNITS: METERS
HORIZONTAL_RESOLUTION: 1.00000
SECONDARY_HORIZONTAL_DATUM: NAD27
XY_ORIGIN: 295097.00000 5208971.00000
SECONDARY_XY_ORIGIN: 295140.79300 5208751.66300
NATION: US
NATION: "SCIENCE
STATE: MT
NW_QUAD_CORNER_XY: 295686.40800 5208669.81300
NE_QUAD_CORNER_XY: 300437.65500 5208508.60200
SE_QUAD_CORNERY_XY: 300204.90900 5201563.73600
SW_QUAD_CORNER_XY: 295448.11300 5201724.97000
SECONDARY_NW_QUAD_XY: 295680.11000 5208451.38600
SECONDARY_NE_QUAD_XY: 300431.50300 5208290.17100
SECONDARY_SE_QUAD_XY: 300198.75800 5201345.33300
SECONDARY_SW_QUAD_XY: 295441.81600 5201506.57300
RMSE_XY: 2.00000
IMAGE_SOURCE: BLACK AND WHITE FILM
SOURCE_IMAGE_ID: NAPP 9131 128
SOURCE_IMAGE_DATE: 1996 07 29
SOURCE_IMAGE_ID: NAPP 9131 129
SOURCE_IMAGE_DATE: 1996 07 29
SOURCE_IMAGE_ID: NAPP 9131 127
SOURCE_IMAGE_DATE: 1996 07 29
SOURCE_DEM_DATE: 1988 00 00
AGENCY: WESTERN MAPPING CENTER (WMC)
PRODUCER: UNDEFINED
PRODUCTION_SYSTEM: GIS/MAGIC
COMPRESSION: UNDEFINED
STANDARD_VERSION: 1996 12
METADATA_DATE: 2000 11 16
DATA_FILE_SIZE: 43505462
BYTE_COUNT: 5642
