FILENAME: O4610703.SES.1112156.tif
QUADRANGLE_NAME: DUTTON RANCH
QUADRANT: SE
WEST_LONGITUDE: -107 41 15.00000
EAST_LONGITUDE: -107 37 30.00000
NORTH_LATITUDE: 46 56 15.00000
SOUTH_LATITUDE: 46 52 30.00000
PRODUCTION_DATE: 2000 11 16
RASTER_ORDER: LEFT_RIGHT/TOP_BOTTOM
BAND_ORGANIZATION: SINGLE FILE
BAND_CONTENT: BLACK&WHITE
BAND_CONTENT: UNDEFINED
BAND_CONTENT: UNDEFINED
BITS_PER_PIXEL: 8
SAMPLES_AND_LINES: 5648 7710
HORIZONTAL_DATUM: NAD83
HORIZONTAL_COORDINATE_SYSTEM: UTM
COORDINATE_ZONE: 13
HORIZONTAL_UNITS: METERS
HORIZONTAL_RESOLUTION: 1.00000
SECONDARY_HORIZONTAL_DATUM: NAD27
XY_ORIGIN: 294858.00000 5202026.00000
SECONDARY_XY_ORIGIN: 294901.80200 5201806.86900
NATION: US
NATION: "SCIENCE
STATE: MT
NW_QUAD_CORNER_XY: 295448.11300 5201724.97000
NE_QUAD_CORNER_XY: 300204.90900 5201563.73600
SE_QUAD_CORNERY_XY: 299972.40200 5194618.92900
SW_QUAD_CORNER_XY: 295210.06300 5194780.18700
SECONDARY_NW_QUAD_XY: 295441.81600 5201506.57300
SECONDARY_NE_QUAD_XY: 300198.75800 5201345.33300
SECONDARY_SE_QUAD_XY: 299966.25200 5194400.55600
SECONDARY_SW_QUAD_XY: 295203.76700 5194561.81900
RMSE_XY: 1.80000
IMAGE_SOURCE: BLACK AND WHITE FILM
SOURCE_IMAGE_ID: NAPP 9131 130
SOURCE_IMAGE_DATE: 1996 07 29
SOURCE_DEM_DATE: 1988 00 00
AGENCY: WESTERN MAPPING CENTER (WMC)
PRODUCER: UNDEFINED
PRODUCTION_SYSTEM: GIS/MAGIC
COMPRESSION: UNDEFINED
STANDARD_VERSION: 1996 12
METADATA_DATE: 2000 11 16
DATA_FILE_SIZE: 43551728
BYTE_COUNT: 5648
