FILENAME: O4610702.SES.1112132.tif
QUADRANGLE_NAME: HILL RANCH
QUADRANT: SE
WEST_LONGITUDE: -107 48 45.00000
EAST_LONGITUDE: -107 45 0.00000
NORTH_LATITUDE: 46 56 15.00000
SOUTH_LATITUDE: 46 52 30.00000
PRODUCTION_DATE: 2000 11 16
RASTER_ORDER: LEFT_RIGHT/TOP_BOTTOM
BAND_ORGANIZATION: SINGLE FILE
BAND_CONTENT: BLACK&WHITE
BAND_CONTENT: UNDEFINED
BAND_CONTENT: UNDEFINED
BITS_PER_PIXEL: 8
SAMPLES_AND_LINES: 5660 7717
HORIZONTAL_DATUM: NAD83
HORIZONTAL_COORDINATE_SYSTEM: UTM
COORDINATE_ZONE: 13
HORIZONTAL_UNITS: METERS
HORIZONTAL_RESOLUTION: 1.00000
SECONDARY_HORIZONTAL_DATUM: NAD27
XY_ORIGIN: 285333.00000 5202360.00000
SECONDARY_XY_ORIGIN: 285376.93900 5202141.07200
NATION: US
NATION: "SCIENCE
STATE: MT
NW_QUAD_CORNER_XY: 285934.57100 5202058.83700
NE_QUAD_CORNER_XY: 290691.33400 5201890.00400
SE_QUAD_CORNERY_XY: 290447.74000 5194945.24500
SW_QUAD_CORNER_XY: 285685.43300 5195114.10200
SECONDARY_NW_QUAD_XY: 285927.98100 5201840.44900
SECONDARY_NE_QUAD_XY: 290684.89000 5201671.61100
SECONDARY_SE_QUAD_XY: 290441.29800 5194726.88200
SECONDARY_SW_QUAD_XY: 285678.84400 5194895.74400
RMSE_XY: 2.00000
IMAGE_SOURCE: BLACK AND WHITE FILM
SOURCE_IMAGE_ID: NAPP 9131 256
SOURCE_IMAGE_DATE: 1996 07 29
SOURCE_IMAGE_ID: NAPP 9131 255
SOURCE_IMAGE_DATE: 1996 07 29
SOURCE_DEM_DATE: 1990 00 00
AGENCY: WESTERN MAPPING CENTER (WMC)
PRODUCER: UNDEFINED
PRODUCTION_SYSTEM: GIS/MAGIC
COMPRESSION: UNDEFINED
STANDARD_VERSION: 1996 12
METADATA_DATE: 2000 11 16
DATA_FILE_SIZE: 43683880
BYTE_COUNT: 5660
