FILENAME: O4610701.NES.1112118.tif
QUADRANGLE_NAME: MOSBY
QUADRANT: NE
WEST_LONGITUDE: -107 56 15.00000
EAST_LONGITUDE: -107 52 30.00000
NORTH_LATITUDE: 47 0 0.00000
SOUTH_LATITUDE: 46 56 15.00000
PRODUCTION_DATE: 2000 11 16
RASTER_ORDER: LEFT_RIGHT/TOP_BOTTOM
BAND_ORGANIZATION: SINGLE FILE
BAND_CONTENT: BLACK&WHITE
BAND_CONTENT: UNDEFINED
BAND_CONTENT: UNDEFINED
BITS_PER_PIXEL: 8
SAMPLES_AND_LINES: 5665 7725
HORIZONTAL_DATUM: NAD83
HORIZONTAL_COORDINATE_SYSTEM: UTM
COORDINATE_ZONE: 13
HORIZONTAL_UNITS: METERS
HORIZONTAL_RESOLUTION: 1.00000
SECONDARY_HORIZONTAL_DATUM: NAD27
XY_ORIGIN: 276069.00000 5209654.00000
SECONDARY_XY_ORIGIN: 276113.01400 5209435.20700
NATION: US
NATION: "SCIENCE
STATE: MT
NW_QUAD_CORNER_XY: 276681.59300 5209352.64200
NE_QUAD_CORNER_XY: 281432.77000 5209176.23600
SE_QUAD_CORNERY_XY: 281177.82600 5202231.46900
SW_QUAD_CORNER_XY: 276421.09800 5202407.90200
SECONDARY_NW_QUAD_XY: 276674.70900 5209134.23700
SECONDARY_NE_QUAD_XY: 281426.03300 5208957.82500
SECONDARY_SE_QUAD_XY: 281171.08900 5202013.08700
SECONDARY_SW_QUAD_XY: 276414.21500 5202189.52500
RMSE_XY: 1.60000
IMAGE_SOURCE: BLACK AND WHITE FILM
SOURCE_IMAGE_ID: NAPP 9132 129
SOURCE_IMAGE_DATE: 1996 07 29
SOURCE_DEM_DATE: 1961 00 00
AGENCY: WESTERN MAPPING CENTER (WMC)
PRODUCER: UNDEFINED
PRODUCTION_SYSTEM: GIS/MAGIC
COMPRESSION: UNDEFINED
STANDARD_VERSION: 1996 12
METADATA_DATE: 2000 11 16
DATA_FILE_SIZE: 43767790
BYTE_COUNT: 5665
