FILENAME: O4610701.NWS.1112119.tif
QUADRANGLE_NAME: MOSBY
QUADRANT: NW
WEST_LONGITUDE: -108 0 0.00000
EAST_LONGITUDE: -107 56 15.00000
NORTH_LATITUDE: 47 0 0.00000
SOUTH_LATITUDE: 46 56 15.00000
PRODUCTION_DATE: 2000 11 16
RASTER_ORDER: LEFT_RIGHT/TOP_BOTTOM
BAND_ORGANIZATION: SINGLE FILE
BAND_CONTENT: BLACK&WHITE
BAND_CONTENT: UNDEFINED
BAND_CONTENT: UNDEFINED
BITS_PER_PIXEL: 8
SAMPLES_AND_LINES: 5671 7729
HORIZONTAL_DATUM: NAD83
HORIZONTAL_COORDINATE_SYSTEM: UTM
COORDINATE_ZONE: 13
HORIZONTAL_UNITS: METERS
HORIZONTAL_RESOLUTION: 1.00000
SECONDARY_HORIZONTAL_DATUM: NAD27
XY_ORIGIN: 271312.00000 5209834.00000
SECONDARY_XY_ORIGIN: 271356.06200 5209615.37000
NATION: US
NATION: "SCIENCE
STATE: MT
NW_QUAD_CORNER_XY: 271930.43500 5209532.84800
NE_QUAD_CORNER_XY: 276681.59300 5209352.64200
SE_QUAD_CORNERY_XY: 276421.09800 5202407.90200
SW_QUAD_CORNER_XY: 271664.38800 5202588.13400
SECONDARY_NW_QUAD_XY: 271923.40500 5209314.44800
SECONDARY_NE_QUAD_XY: 276674.70900 5209134.23700
SECONDARY_SE_QUAD_XY: 276414.21500 5202189.52500
SECONDARY_SW_QUAD_XY: 271657.35900 5202369.76300
RMSE_XY: 1.90000
IMAGE_SOURCE: BLACK AND WHITE FILM
SOURCE_IMAGE_ID: NAPP 9132 168
SOURCE_IMAGE_DATE: 1996 07 29
SOURCE_DEM_DATE: 1961 00 00
AGENCY: WESTERN MAPPING CENTER (WMC)
PRODUCER: UNDEFINED
PRODUCTION_SYSTEM: GIS/MAGIC
COMPRESSION: UNDEFINED
STANDARD_VERSION: 1996 12
METADATA_DATE: 2000 11 16
DATA_FILE_SIZE: 43836830
BYTE_COUNT: 5671
