FILENAME: O4610701.SES.1112120.tif
QUADRANGLE_NAME: MOSBY
QUADRANT: SE
WEST_LONGITUDE: -107 56 15.00000
EAST_LONGITUDE: -107 52 30.00000
NORTH_LATITUDE: 46 56 15.00000
SOUTH_LATITUDE: 46 52 30.00000
PRODUCTION_DATE: 2000 11 16
RASTER_ORDER: LEFT_RIGHT/TOP_BOTTOM
BAND_ORGANIZATION: SINGLE FILE
BAND_CONTENT: BLACK&WHITE
BAND_CONTENT: UNDEFINED
BAND_CONTENT: UNDEFINED
BITS_PER_PIXEL: 8
SAMPLES_AND_LINES: 5671 7725
HORIZONTAL_DATUM: NAD83
HORIZONTAL_COORDINATE_SYSTEM: UTM
COORDINATE_ZONE: 13
HORIZONTAL_UNITS: METERS
HORIZONTAL_RESOLUTION: 1.00000
SECONDARY_HORIZONTAL_DATUM: NAD27
XY_ORIGIN: 275808.00000 5202709.00000
SECONDARY_XY_ORIGIN: 275852.04000 5202490.36800
NATION: US
NATION: "SCIENCE
STATE: MT
NW_QUAD_CORNER_XY: 276421.09800 5202407.90200
NE_QUAD_CORNER_XY: 281177.82600 5202231.46900
SE_QUAD_CORNERY_XY: 280923.14300 5195286.75900
SW_QUAD_CORNER_XY: 276160.87000 5195463.21700
SECONDARY_NW_QUAD_XY: 276414.21500 5202189.52500
SECONDARY_NE_QUAD_XY: 281171.08900 5202013.08700
SECONDARY_SE_QUAD_XY: 280916.40800 5195068.40700
SECONDARY_SW_QUAD_XY: 276153.98800 5195244.87000
RMSE_XY: 2.40000
IMAGE_SOURCE: BLACK AND WHITE FILM
SOURCE_IMAGE_ID: NAPP 9132 131
SOURCE_IMAGE_DATE: 1996 07 29
SOURCE_IMAGE_ID: NAPP 9132 130
SOURCE_IMAGE_DATE: 1996 07 29
SOURCE_DEM_DATE: 1961 00 00
AGENCY: WESTERN MAPPING CENTER (WMC)
PRODUCER: UNDEFINED
PRODUCTION_SYSTEM: GIS/MAGIC
COMPRESSION: UNDEFINED
STANDARD_VERSION: 1996 12
METADATA_DATE: 2000 11 16
DATA_FILE_SIZE: 43814146
BYTE_COUNT: 5671
