FILENAME: O4610863.SES.1006367.tif
QUADRANGLE_NAME: P K RANCH SW
QUADRANT: SE
WEST_LONGITUDE: -108 11 15.00000
EAST_LONGITUDE: -108 7 30.00000
NORTH_LATITUDE: 46 3 45.00000
SOUTH_LATITUDE: 46 0 0.00000
PRODUCTION_DATE: 1999 4 16
RASTER_ORDER: LEFT_RIGHT/TOP_BOTTOM
BAND_ORGANIZATION: SINGLE FILE
BAND_CONTENT: BLACK&WHITE
BAND_CONTENT: UNDEFINED
BAND_CONTENT: UNDEFINED
BITS_PER_PIXEL: 8
SAMPLES_AND_LINES: 5740 7726
HORIZONTAL_DATUM: NAD83
HORIZONTAL_COORDINATE_SYSTEM: UTM
COORDINATE_ZONE: 12
HORIZONTAL_UNITS: METERS
HORIZONTAL_RESOLUTION: 1.00000
SECONDARY_HORIZONTAL_DATUM: NAD27
XY_ORIGIN: 717176.00000 5105311.00000
SECONDARY_XY_ORIGIN: 717234.67900 5105098.96300
NATION: US
NATION: "SCIENCE
STATE: MT
NW_QUAD_CORNER_XY: 717529.91400 5104837.82200
NE_QUAD_CORNER_XY: 722363.76700 5105010.72900
SE_QUAD_CORNERY_XY: 722614.75200 5098066.81900
SW_QUAD_CORNER_XY: 717775.43500 5097893.89900
SECONDARY_NW_QUAD_XY: 717536.48700 5104619.92600
SECONDARY_NE_QUAD_XY: 722370.48500 5104792.83800
SECONDARY_SE_QUAD_XY: 722621.46900 5097848.96900
SECONDARY_SW_QUAD_XY: 717782.00600 5097676.04400
RMSE_XY: 1.10000
IMAGE_SOURCE: BLACK AND WHITE FILM
SOURCE_IMAGE_ID: NAPP 9143 039
SOURCE_IMAGE_DATE: 1996 08 24
SOURCE_IMAGE_ID: NAPP 9146 043
SOURCE_IMAGE_DATE: 1996 08 24
SOURCE_IMAGE_ID: NAPP 9143 038
SOURCE_IMAGE_DATE: 1996 08 24
SOURCE_DEM_DATE: 1973 00 00
AGENCY: WESTERN MAPPING CENTER (WMC)
PRODUCER: UNDEFINED
PRODUCTION_SYSTEM: GIS/MAGIC
COMPRESSION: UNDEFINED
STANDARD_VERSION: 1996 12
METADATA_DATE: 1999 05 18
DATA_FILE_SIZE: 44352980
BYTE_COUNT: 5740
