FILENAME: O4610862.NES.1006154.tif
QUADRANGLE_NAME: COTTON CREEK
QUADRANT: NE
WEST_LONGITUDE: -108 18 45.00000
EAST_LONGITUDE: -108 15 0.00000
NORTH_LATITUDE: 46 7 30.00000
SOUTH_LATITUDE: 46 3 45.00000
PRODUCTION_DATE: 1999 4 14
RASTER_ORDER: LEFT_RIGHT/TOP_BOTTOM
BAND_ORGANIZATION: SINGLE FILE
BAND_CONTENT: BLACK&WHITE
BAND_CONTENT: UNDEFINED
BAND_CONTENT: UNDEFINED
BITS_PER_PIXEL: 8
SAMPLES_AND_LINES: 5725 7718
HORIZONTAL_DATUM: NAD83
HORIZONTAL_COORDINATE_SYSTEM: UTM
COORDINATE_ZONE: 12
HORIZONTAL_UNITS: METERS
HORIZONTAL_RESOLUTION: 1.00000
SECONDARY_HORIZONTAL_DATUM: NAD27
XY_ORIGIN: 707273.00000 5111913.00000
SECONDARY_XY_ORIGIN: 707331.75700 5111700.99600
NATION: US
NATION: "SCIENCE
STATE: MT
NW_QUAD_CORNER_XY: 707627.33900 5111447.43500
NE_QUAD_CORNER_XY: 712455.74100 5111612.71700
SE_QUAD_CORNERY_XY: 712696.05200 5104668.72200
SW_QUAD_CORNER_XY: 707862.18100 5104503.42600
SECONDARY_NW_QUAD_XY: 707633.62100 5111229.48800
SECONDARY_NE_QUAD_XY: 712462.16900 5111394.77500
SECONDARY_SE_QUAD_XY: 712702.47800 5104450.82000
SECONDARY_SW_QUAD_XY: 707868.46100 5104285.51900
RMSE_XY: 1.70000
IMAGE_SOURCE: BLACK AND WHITE FILM
SOURCE_IMAGE_ID: NAPP 9134 038
SOURCE_IMAGE_DATE: 1996 08 10
SOURCE_IMAGE_ID: NAPP 9134 039
SOURCE_IMAGE_DATE: 1996 08 10
SOURCE_DEM_DATE: 1973 00 00
AGENCY: WESTERN MAPPING CENTER (WMC)
PRODUCER: UNDEFINED
PRODUCTION_SYSTEM: GIS/MAGIC
COMPRESSION: UNDEFINED
STANDARD_VERSION: 1996 12
METADATA_DATE: 1999 05 18
DATA_FILE_SIZE: 44191275
BYTE_COUNT: 5725
