FILENAME: O4610862.SES.1006156.tif
QUADRANGLE_NAME: COTTON CREEK
QUADRANT: SE
WEST_LONGITUDE: -108 18 45.00000
EAST_LONGITUDE: -108 15 0.00000
NORTH_LATITUDE: 46 3 45.00000
SOUTH_LATITUDE: 46 0 0.00000
PRODUCTION_DATE: 1999 4 16
RASTER_ORDER: LEFT_RIGHT/TOP_BOTTOM
BAND_ORGANIZATION: SINGLE FILE
BAND_CONTENT: BLACK&WHITE
BAND_CONTENT: UNDEFINED
BAND_CONTENT: UNDEFINED
BITS_PER_PIXEL: 8
SAMPLES_AND_LINES: 5730 7718
HORIZONTAL_DATUM: NAD83
HORIZONTAL_COORDINATE_SYSTEM: UTM
COORDINATE_ZONE: 12
HORIZONTAL_UNITS: METERS
HORIZONTAL_RESOLUTION: 1.00000
SECONDARY_HORIZONTAL_DATUM: NAD27
XY_ORIGIN: 707508.00000 5104969.00000
SECONDARY_XY_ORIGIN: 707566.87900 5104757.25100
NATION: US
NATION: "SCIENCE
STATE: MT
NW_QUAD_CORNER_XY: 707862.18100 5104503.42600
NE_QUAD_CORNER_XY: 712696.05200 5104668.72200
SE_QUAD_CORNERY_XY: 712936.10900 5097724.78500
SW_QUAD_CORNER_XY: 708096.77400 5097559.47700
SECONDARY_NW_QUAD_XY: 707868.46100 5104285.51900
SECONDARY_NE_QUAD_XY: 712702.47800 5104450.82000
SECONDARY_SE_QUAD_XY: 712942.53400 5097506.92500
SECONDARY_SW_QUAD_XY: 708103.05300 5097341.61100
RMSE_XY: 1.90000
IMAGE_SOURCE: BLACK AND WHITE FILM
SOURCE_IMAGE_ID: NAPP 9134 036
SOURCE_IMAGE_DATE: 1996 08 10
SOURCE_IMAGE_ID: NAPP 9134 035
SOURCE_IMAGE_DATE: 1996 08 10
SOURCE_DEM_DATE: 1973 00 00
AGENCY: WESTERN MAPPING CENTER (WMC)
PRODUCER: UNDEFINED
PRODUCTION_SYSTEM: GIS/MAGIC
COMPRESSION: UNDEFINED
STANDARD_VERSION: 1996 12
METADATA_DATE: 1999 05 18
DATA_FILE_SIZE: 44229870
BYTE_COUNT: 5730
