FILENAME: O4610862.SWS.1006157.tif
QUADRANGLE_NAME: COTTON CREEK
QUADRANT: SW
WEST_LONGITUDE: -108 22 30.00000
EAST_LONGITUDE: -108 18 45.00000
NORTH_LATITUDE: 46 3 45.00000
SOUTH_LATITUDE: 46 0 0.00000
PRODUCTION_DATE: 1999 4 14
RASTER_ORDER: LEFT_RIGHT/TOP_BOTTOM
BAND_ORGANIZATION: SINGLE FILE
BAND_CONTENT: BLACK&WHITE
BAND_CONTENT: UNDEFINED
BAND_CONTENT: UNDEFINED
BITS_PER_PIXEL: 8
SAMPLES_AND_LINES: 5724 7715
HORIZONTAL_DATUM: NAD83
HORIZONTAL_COORDINATE_SYSTEM: UTM
COORDINATE_ZONE: 12
HORIZONTAL_UNITS: METERS
HORIZONTAL_RESOLUTION: 1.00000
SECONDARY_HORIZONTAL_DATUM: NAD27
XY_ORIGIN: 702674.00000 5104804.00000
SECONDARY_XY_ORIGIN: 702732.95400 5104592.33800
NATION: US
NATION: "SCIENCE
STATE: MT
NW_QUAD_CORNER_XY: 703028.30000 5104341.93600
NE_QUAD_CORNER_XY: 707862.18100 5104503.42600
SE_QUAD_CORNERY_XY: 708096.77400 5097559.47700
SW_QUAD_CORNER_XY: 703257.43100 5097397.97400
SECONDARY_NW_QUAD_XY: 703034.43500 5104124.02400
SECONDARY_NE_QUAD_XY: 707868.46100 5104285.51900
SECONDARY_SE_QUAD_XY: 708103.05300 5097341.61100
SECONDARY_SW_QUAD_XY: 703263.56300 5097180.10400
RMSE_XY: 2.40000
IMAGE_SOURCE: BLACK AND WHITE FILM
SOURCE_IMAGE_ID: NAPP 9137 078
SOURCE_IMAGE_DATE: 1996 08 23
SOURCE_IMAGE_ID: NAPP 9137 079
SOURCE_IMAGE_DATE: 1996 08 23
SOURCE_IMAGE_ID: NAPP 9137 076
SOURCE_IMAGE_DATE: 1996 08 23
SOURCE_IMAGE_ID: NAPP 9134 036
SOURCE_IMAGE_DATE: 1996 08 10
SOURCE_DEM_DATE: 1973 00 00
AGENCY: WESTERN MAPPING CENTER (WMC)
PRODUCER: UNDEFINED
PRODUCTION_SYSTEM: GIS/MAGIC
COMPRESSION: UNDEFINED
STANDARD_VERSION: 1996 12
METADATA_DATE: 1999 05 18
DATA_FILE_SIZE: 44166384
BYTE_COUNT: 5724
