FILENAME: O4610861.NES.1006007.tif
QUADRANGLE_NAME: NORTH FORK CROOKED CREEK EAST
QUADRANT: NE
WEST_LONGITUDE: -108 26 15.00000
EAST_LONGITUDE: -108 22 30.00000
NORTH_LATITUDE: 46 7 30.00000
SOUTH_LATITUDE: 46 3 45.00000
PRODUCTION_DATE: 1999 4 14
RASTER_ORDER: LEFT_RIGHT/TOP_BOTTOM
BAND_ORGANIZATION: SINGLE FILE
BAND_CONTENT: BLACK&WHITE
BAND_CONTENT: UNDEFINED
BAND_CONTENT: UNDEFINED
BITS_PER_PIXEL: 8
SAMPLES_AND_LINES: 5714 7711
HORIZONTAL_DATUM: NAD83
HORIZONTAL_COORDINATE_SYSTEM: UTM
COORDINATE_ZONE: 12
HORIZONTAL_UNITS: METERS
HORIZONTAL_RESOLUTION: 1.00000
SECONDARY_HORIZONTAL_DATUM: NAD27
XY_ORIGIN: 697616.00000 5111586.00000
SECONDARY_XY_ORIGIN: 697674.91000 5111374.17400
NATION: US
NATION: "SCIENCE
STATE: MT
NW_QUAD_CORNER_XY: 697970.50600 5111128.28600
NE_QUAD_CORNER_XY: 702798.92700 5111285.95800
SE_QUAD_CORNERY_XY: 703028.30000 5104341.93600
SW_QUAD_CORNER_XY: 698194.41100 5104184.25100
SECONDARY_NW_QUAD_XY: 697976.49600 5110910.32900
SECONDARY_NE_QUAD_XY: 702805.06300 5111068.00600
SECONDARY_SE_QUAD_XY: 703034.43500 5104124.02400
SECONDARY_SW_QUAD_XY: 698200.39900 5103966.33400
RMSE_XY: 1.50000
IMAGE_SOURCE: BLACK AND WHITE FILM
SOURCE_IMAGE_ID: NAPP 9137 147
SOURCE_IMAGE_DATE: 1996 08 23
SOURCE_IMAGE_ID: NAPP 9137 148
SOURCE_IMAGE_DATE: 1996 08 23
SOURCE_DEM_DATE: 1973 00 00
AGENCY: WESTERN MAPPING CENTER (WMC)
PRODUCER: UNDEFINED
PRODUCTION_SYSTEM: GIS/MAGIC
COMPRESSION: UNDEFINED
STANDARD_VERSION: 1996 12
METADATA_DATE: 1999 05 18
DATA_FILE_SIZE: 44066368
BYTE_COUNT: 5714
