FILENAME: O4610861.NWS.1006009.tif
QUADRANGLE_NAME: NORTH FORK CROOKED CREEK EAST
QUADRANT: NW
WEST_LONGITUDE: -108 30 0.00000
EAST_LONGITUDE: -108 26 15.00000
NORTH_LATITUDE: 46 7 30.00000
SOUTH_LATITUDE: 46 3 45.00000
PRODUCTION_DATE: 1999 4 14
RASTER_ORDER: LEFT_RIGHT/TOP_BOTTOM
BAND_ORGANIZATION: SINGLE FILE
BAND_CONTENT: BLACK&WHITE
BAND_CONTENT: UNDEFINED
BAND_CONTENT: UNDEFINED
BITS_PER_PIXEL: 8
SAMPLES_AND_LINES: 5709 7708
HORIZONTAL_DATUM: NAD83
HORIZONTAL_COORDINATE_SYSTEM: UTM
COORDINATE_ZONE: 12
HORIZONTAL_UNITS: METERS
HORIZONTAL_RESOLUTION: 1.00000
SECONDARY_HORIZONTAL_DATUM: NAD27
XY_ORIGIN: 692787.00000 5111429.00000
SECONDARY_XY_ORIGIN: 692845.98700 5111217.26200
NATION: US
NATION: "SCIENCE
STATE: MT
NW_QUAD_CORNER_XY: 693142.07600 5110974.41700
NE_QUAD_CORNER_XY: 697970.50600 5111128.28600
SE_QUAD_CORNERY_XY: 698194.41100 5104184.25100
SW_QUAD_CORNER_XY: 693360.51300 5104030.37000
SECONDARY_NW_QUAD_XY: 693147.92000 5110756.45600
SECONDARY_NE_QUAD_XY: 697976.49600 5110910.32900
SECONDARY_SE_QUAD_XY: 698200.39900 5103966.33400
SECONDARY_SW_QUAD_XY: 693366.35500 5103812.44900
RMSE_XY: 1.40000
IMAGE_SOURCE: BLACK AND WHITE FILM
SOURCE_IMAGE_ID: NAPP 9137 222
SOURCE_IMAGE_DATE: 1996 08 23
SOURCE_DEM_DATE: 1973 00 00
AGENCY: WESTERN MAPPING CENTER (WMC)
PRODUCER: UNDEFINED
PRODUCTION_SYSTEM: GIS/MAGIC
COMPRESSION: UNDEFINED
STANDARD_VERSION: 1996 12
METADATA_DATE: 1999 05 18
DATA_FILE_SIZE: 44010681
BYTE_COUNT: 5709
