FILENAME: O4610860.NES.1005951.tif
QUADRANGLE_NAME: NORTH FORK CROOKED CREEK WEST
QUADRANT: NE
WEST_LONGITUDE: -108 33 45.00000
EAST_LONGITUDE: -108 30 0.00000
NORTH_LATITUDE: 46 7 30.00000
SOUTH_LATITUDE: 46 3 45.00000
PRODUCTION_DATE: 1999 4 13
RASTER_ORDER: LEFT_RIGHT/TOP_BOTTOM
BAND_ORGANIZATION: SINGLE FILE
BAND_CONTENT: BLACK&WHITE
BAND_CONTENT: UNDEFINED
BAND_CONTENT: UNDEFINED
BITS_PER_PIXEL: 8
SAMPLES_AND_LINES: 5703 7704
HORIZONTAL_DATUM: NAD83
HORIZONTAL_COORDINATE_SYSTEM: UTM
COORDINATE_ZONE: 12
HORIZONTAL_UNITS: METERS
HORIZONTAL_RESOLUTION: 1.00000
SECONDARY_HORIZONTAL_DATUM: NAD27
XY_ORIGIN: 687959.00000 5111275.00000
SECONDARY_XY_ORIGIN: 688018.05900 5111063.31400
NATION: US
NATION: "SCIENCE
STATE: MT
NW_QUAD_CORNER_XY: 688313.63700 5110824.35300
NE_QUAD_CORNER_XY: 693142.07600 5110974.41700
SE_QUAD_CORNERY_XY: 693360.51300 5104030.37000
SW_QUAD_CORNER_XY: 688526.60700 5103880.29300
SECONDARY_NW_QUAD_XY: 688319.33400 5110606.38700
SECONDARY_NE_QUAD_XY: 693147.92000 5110756.45600
SECONDARY_SE_QUAD_XY: 693366.35500 5103812.44900
SECONDARY_SW_QUAD_XY: 688532.30300 5103662.36700
RMSE_XY: 1.20000
IMAGE_SOURCE: BLACK AND WHITE FILM
SOURCE_IMAGE_ID: NAPP 9138 041
SOURCE_IMAGE_DATE: 1996 08 23
SOURCE_IMAGE_ID: NAPP 9138 231
SOURCE_IMAGE_DATE: 1996 08 23
SOURCE_IMAGE_ID: NAPP 9138 042
SOURCE_IMAGE_DATE: 1996 08 23
SOURCE_DEM_DATE: 1973 00 00
AGENCY: WESTERN MAPPING CENTER (WMC)
PRODUCER: UNDEFINED
PRODUCTION_SYSTEM: GIS/MAGIC
COMPRESSION: UNDEFINED
STANDARD_VERSION: 1996 12
METADATA_DATE: 1999 05 18
DATA_FILE_SIZE: 43941615
BYTE_COUNT: 5703
