FILENAME: O4610860.NWS.1005953.tif
QUADRANGLE_NAME: NORTH FORK CROOKED CREEK WEST
QUADRANT: NW
WEST_LONGITUDE: -108 37 30.00000
EAST_LONGITUDE: -108 33 45.00000
NORTH_LATITUDE: 46 7 30.00000
SOUTH_LATITUDE: 46 3 45.00000
PRODUCTION_DATE: 1999 4 13
RASTER_ORDER: LEFT_RIGHT/TOP_BOTTOM
BAND_ORGANIZATION: SINGLE FILE
BAND_CONTENT: BLACK&WHITE
BAND_CONTENT: UNDEFINED
BAND_CONTENT: UNDEFINED
BITS_PER_PIXEL: 8
SAMPLES_AND_LINES: 5698 7700
HORIZONTAL_DATUM: NAD83
HORIZONTAL_COORDINATE_SYSTEM: UTM
COORDINATE_ZONE: 12
HORIZONTAL_UNITS: METERS
HORIZONTAL_RESOLUTION: 1.00000
SECONDARY_HORIZONTAL_DATUM: NAD27
XY_ORIGIN: 683130.00000 5111125.00000
SECONDARY_XY_ORIGIN: 683189.13700 5110913.37200
NATION: US
NATION: "SCIENCE
STATE: MT
NW_QUAD_CORNER_XY: 683485.19000 5110678.09100
NE_QUAD_CORNER_XY: 688313.63700 5110824.35300
SE_QUAD_CORNERY_XY: 688526.60700 5103880.29300
SW_QUAD_CORNER_XY: 683692.69300 5103734.01900
SECONDARY_NW_QUAD_XY: 683490.74100 5110460.12100
SECONDARY_NE_QUAD_XY: 688319.33400 5110606.38700
SECONDARY_SE_QUAD_XY: 688532.30300 5103662.36700
SECONDARY_SW_QUAD_XY: 683698.24200 5103516.08900
RMSE_XY: 3.00000
IMAGE_SOURCE: BLACK AND WHITE FILM
SOURCE_IMAGE_ID: NAPP 9138 230
SOURCE_IMAGE_DATE: 1996 08 23
SOURCE_IMAGE_ID: NAPP 9138 228
SOURCE_IMAGE_DATE: 1996 08 23
SOURCE_DEM_DATE: 1973 00 00
AGENCY: WESTERN MAPPING CENTER (WMC)
PRODUCER: UNDEFINED
PRODUCTION_SYSTEM: GIS/MAGIC
COMPRESSION: UNDEFINED
STANDARD_VERSION: 1996 12
METADATA_DATE: 1999 05 18
DATA_FILE_SIZE: 43880298
BYTE_COUNT: 5698
